BEGIN:VCALENDAR
VERSION:2.0
PRODID:-//Events | FID-Recht//NONSGML Events//EN
CALSCALE:GREGORIAN
X-ORIGINAL-URL:https://events.intrecht.de/termine/
X-WR-CALDESC:Events | FID-Recht - Events
BEGIN:VEVENT
UID:20200603T1418Z-1591193923.3362-EO-587-1@172.16.200.141
STATUS:CONFIRMED
DTSTAMP:20260425T201704Z
CREATED:20230906T132533Z
LAST-MODIFIED:20230906T132533Z
DTSTART;VALUE=DATE:20231019
DTEND;VALUE=DATE:20231021
SUMMARY: Europäische Integration in unsicheren Zeiten (ECSA Dreiländertagun
 g 2023)
DESCRIPTION: 19.-20.10.2023 / Zürich https://www.ivr.uzh.ch/de/institutsmit
 glieder/oesch/aktuell_neu.html
X-ALT-DESC;FMTTYPE=text/html: <p>19.-20.10.2023 / Zürich</p><p><a href="htt
 ps://www.ivr.uzh.ch/de/institutsmitglieder/oesch/aktuell_neu.html">https://
 www.ivr.uzh.ch/de/institutsmitglieder/oesch/aktuell_neu.html</a></p><p>[av_
 button label='iCal-Export' link='./feed/eo-events' link_target='' size='sma
 ll' position='center' label_display='' title_attr='' icon_select='yes' icon
 ='ue85b' font='entypo-fontello' color='custom' custom_bg='#b5123e' custom_f
 ont='#ffffff' av_uid='' id='' custom_class='' admin_preview_bg='']</p>
CATEGORIES:Europäisches / Internationales Recht
LOCATION:Ausland
GEO:0.000000;0.000000
ORGANIZER;CN="ViFa-Recht":MAILTO:vifa-recht@sbb.spk-berlin.de
URL;VALUE=URI:https://events.intrecht.de/termine/termin/europaeische-integr
 ation-in-unsicheren-zeiten-ecsa-dreilaendertagung-2023/
END:VEVENT
BEGIN:VTIMEZONE
TZID:Europe/Berlin
BEGIN:DAYLIGHT
TZOFFSETFROM:+0100
TZOFFSETTO:+0200
DTSTART:20230326T010000
TZNAME:CEST
END:DAYLIGHT
END:VTIMEZONE
END:VCALENDAR
