BEGIN:VCALENDAR
VERSION:2.0
PRODID:-//Events | FID-Recht//NONSGML Events//EN
CALSCALE:GREGORIAN
X-ORIGINAL-URL:https://events.intrecht.de/termine/
X-WR-CALDESC:Events | FID-Recht - Events
BEGIN:VEVENT
UID:20210107T1216Z-1610021799.0511-EO-2991-1@172.16.200.141
STATUS:CONFIRMED
DTSTAMP:20260422T193821Z
CREATED:20201230T150006Z
LAST-MODIFIED:20201230T150006Z
DTSTART;TZID=Europe/Berlin:20210209T180000
DTEND;TZID=Europe/Berlin:20210209T200000
SUMMARY: Europäische Integration durch Recht? (mit Eva Lautsch und Andreas 
 Grimmel) (Online-Werkstattgespräch)
DESCRIPTION: 9.2.2021\, Online https://www.rewi.hu-berlin.de/de/lf/oe/lsi/t
 ermine/integration-interdisziplinaer-europaeische-integration-durch-recht-e
 va-lautsch-im-gespraech-mit-andreas-grimmel  
X-ALT-DESC;FMTTYPE=text/html: <p>9.2.2021\, Online</p><p><a href="https://w
 ww.rewi.hu-berlin.de/de/lf/oe/lsi/termine/integration-interdisziplinaer-eur
 opaeische-integration-durch-recht-eva-lautsch-im-gespraech-mit-andreas-grim
 mel">https://www.rewi.hu-berlin.de/de/lf/oe/lsi/termine/integration-interdi
 sziplinaer-europaeische-integration-durch-recht-eva-lautsch-im-gespraech-mi
 t-andreas-grimmel</a></p><p> </p><p>[av_button label='iCal-Export' link='./
 feed/eo-events' link_target='' size='small' position='center' label_display
 ='' title_attr='' icon_select='yes' icon='ue85b' font='entypo-fontello' col
 or='custom' custom_bg='#b5123e' custom_font='#ffffff' av_uid='' id='' custo
 m_class='' admin_preview_bg='']</p>
CATEGORIES:Europäisches / Internationales Recht
LOCATION:Online
GEO:0.000000;0.000000
ORGANIZER;CN="ViFa-Recht":MAILTO:vifa-recht@sbb.spk-berlin.de
URL;VALUE=URI:https://events.intrecht.de/termine/termin/europaeische-integr
 ation-durch-recht-mit-eva-lautsch-und-andreas-grimmel-online-werkstattgespr
 aech/
END:VEVENT
BEGIN:VTIMEZONE
TZID:Europe/Berlin
BEGIN:STANDARD
TZOFFSETFROM:+0200
TZOFFSETTO:+0100
DTSTART:20201025T010000
TZNAME:CET
END:STANDARD
END:VTIMEZONE
END:VCALENDAR
