BEGIN:VCALENDAR
VERSION:2.0
PRODID:-//Events | FID-Recht//NONSGML Events//EN
CALSCALE:GREGORIAN
X-ORIGINAL-URL:https://events.intrecht.de/termine/
X-WR-CALDESC:Events | FID-Recht - Events
BEGIN:VEVENT
UID:20200602T0945Z-1591091115.9737-EO-599-1@172.16.200.141
STATUS:CONFIRMED
DTSTAMP:20260425T151020Z
CREATED:20260310T092019Z
LAST-MODIFIED:20260310T092019Z
DTSTART;VALUE=DATE:20260618
DTEND;VALUE=DATE:20260620
SUMMARY: EuConst-Symposium 2026 für Nachwuchswissenschaftler:innen
DESCRIPTION: 18.-19.6.2026 / Hamburg https://www.jura.uni-hamburg.de/die-fa
 kultaet/professuren/wendel/aktuelles/2026-02-10-eu-const.html
X-ALT-DESC;FMTTYPE=text/html: <p>18.-19.6.2026 / Hamburg</p><p><a href="htt
 ps://www.jura.uni-hamburg.de/die-fakultaet/professuren/wendel/aktuelles/202
 6-02-10-eu-const.html">https://www.jura.uni-hamburg.de/die-fakultaet/profes
 suren/wendel/aktuelles/2026-02-10-eu-const.html</a></p><p>[av_button label=
 'iCal-Export' link='./feed/eo-events' link_target='' size='small' position=
 'center' label_display='' title_attr='' icon_select='yes' icon='ue85b' font
 ='entypo-fontello' color='custom' custom_bg='#b5123e' custom_font='#ffffff'
  av_uid='' id='' custom_class='' admin_preview_bg='']</p>
CATEGORIES:Recht interdisziplinär
LOCATION:Inland
GEO:0.000000;0.000000
ORGANIZER;CN="ViFa-Recht":MAILTO:vifa-recht@sbb.spk-berlin.de
URL;VALUE=URI:https://events.intrecht.de/termine/termin/euconst-symposium-2
 026-fuer-nachwuchswissenschaftlerinnen/
END:VEVENT
BEGIN:VTIMEZONE
TZID:Europe/Berlin
BEGIN:DAYLIGHT
TZOFFSETFROM:+0100
TZOFFSETTO:+0200
DTSTART:20260329T010000
TZNAME:CEST
END:DAYLIGHT
END:VTIMEZONE
END:VCALENDAR
