BEGIN:VCALENDAR
VERSION:2.0
PRODID:-//Events | FID-Recht//NONSGML Events//EN
CALSCALE:GREGORIAN
X-ORIGINAL-URL:https://events.intrecht.de/termine/
X-WR-CALDESC:Events | FID-Recht - Events
BEGIN:VEVENT
UID:20220304T1820Z-1646418044.2314-EO-5285-1@172.16.200.141
STATUS:CONFIRMED
DTSTAMP:20260425T233303Z
CREATED:20220223T091901Z
LAST-MODIFIED:20220223T092933Z
DTSTART;VALUE=DATE:20220408
DTEND;VALUE=DATE:20220409
SUMMARY: EU Autonomy and International Law (Symposium)
DESCRIPTION: 8.4.2022\, Luxemburg (Anmeldefrist: 1.4.2022) ESIL-CJEU Sympos
 ium on “EU Autonomy and International Law” – European Society of Internatio
 nal Law | Société européenne de droit international (esil-sedi.eu)  
X-ALT-DESC;FMTTYPE=text/html: <p>8.4.2022\, Luxemburg (Anmeldefrist: 1.4.20
 22)</p><p><a href="https://esil-sedi.eu/esil-cjeu-symposium-on-eu-autonomy-
 and-international-law/">ESIL-CJEU Symposium on “EU Autonomy and Internation
 al Law” – European Society of International Law | Société européenne de dro
 it international (esil-sedi.eu)</a></p><p> </p><p>[av_button label='iCal-Ex
 port' link='./feed/eo-events' link_target='' size='small' position='center'
  label_display='' title_attr='' icon_select='yes' icon='ue85b' font='entypo
 -fontello' color='custom' custom_bg='#b5123e' custom_font='#ffffff' av_uid=
 '' id='' custom_class='' admin_preview_bg='']</p>
CATEGORIES:Europäisches / Internationales Recht
LOCATION:Ausland
GEO:0.000000;0.000000
ORGANIZER;CN="ViFa-Recht":MAILTO:vifa-recht@sbb.spk-berlin.de
URL;VALUE=URI:https://events.intrecht.de/termine/termin/eu-autonomy-and-int
 ernational-law-symposium/
END:VEVENT
BEGIN:VTIMEZONE
TZID:Europe/Berlin
BEGIN:DAYLIGHT
TZOFFSETFROM:+0100
TZOFFSETTO:+0200
DTSTART:20220327T010000
TZNAME:CEST
END:DAYLIGHT
END:VTIMEZONE
END:VCALENDAR
