BEGIN:VCALENDAR
VERSION:2.0
PRODID:-//Events | FID-Recht//NONSGML Events//EN
CALSCALE:GREGORIAN
X-ORIGINAL-URL:https://events.intrecht.de/termine/
X-WR-CALDESC:Events | FID-Recht - Events
BEGIN:VEVENT
UID:20200603T1418Z-1591193923.3362-EO-587-1@172.16.200.141
STATUS:CONFIRMED
DTSTAMP:20260425T144222Z
CREATED:20250331T162303Z
LAST-MODIFIED:20250331T162303Z
DTSTART;VALUE=DATE:20250515
DTEND;VALUE=DATE:20250517
SUMMARY: EU Accession to the ECHR: Procedural Hurdles and Prospects Before 
 the ECtHR (Workshop)
DESCRIPTION: 15.-16.5.2025 / Thessaloniki (first day available in a hybrid 
 format) https://esil-sedi.eu/workshop-on-eu-accession-to-the-echr-procedura
 l-hurdles-and-prospects-before-the-ecthr/
X-ALT-DESC;FMTTYPE=text/html: <p>15.-16.5.2025 / Thessaloniki <strong>(firs
 t day available in a hybrid format)</strong></p><p><a href="https://esil-se
 di.eu/workshop-on-eu-accession-to-the-echr-procedural-hurdles-and-prospects
 -before-the-ecthr/">https://esil-sedi.eu/workshop-on-eu-accession-to-the-ec
 hr-procedural-hurdles-and-prospects-before-the-ecthr/</a></p><p>[av_button 
 label='iCal-Export' link='./feed/eo-events' link_target='' size='small' pos
 ition='center' label_display='' title_attr='' icon_select='yes' icon='ue85b
 ' font='entypo-fontello' color='custom' custom_bg='#b5123e' custom_font='#f
 fffff' av_uid='' id='' custom_class='' admin_preview_bg='']</p>
CATEGORIES:Europäisches / Internationales Recht
LOCATION:Ausland
GEO:0.000000;0.000000
ORGANIZER;CN="ViFa-Recht":MAILTO:vifa-recht@sbb.spk-berlin.de
URL;VALUE=URI:https://events.intrecht.de/termine/termin/eu-accession-to-the
 -echr-procedural-hurdles-and-prospects-before-the-ecthr-workshop/
END:VEVENT
BEGIN:VTIMEZONE
TZID:Europe/Berlin
BEGIN:DAYLIGHT
TZOFFSETFROM:+0100
TZOFFSETTO:+0200
DTSTART:20250330T010000
TZNAME:CEST
END:DAYLIGHT
END:VTIMEZONE
END:VCALENDAR
