BEGIN:VCALENDAR
VERSION:2.0
PRODID:-//Events | FID-Recht//NONSGML Events//EN
CALSCALE:GREGORIAN
X-ORIGINAL-URL:https://events.intrecht.de/termine/
X-WR-CALDESC:Events | FID-Recht - Events
BEGIN:VEVENT
UID:20201217T0152Z-1608169970.4007-EO-2854-1@172.16.200.141
STATUS:CONFIRMED
DTSTAMP:20260425T132612Z
CREATED:20201210T171304Z
LAST-MODIFIED:20201210T171304Z
DTSTART;TZID=Europe/Berlin:20210121T170000
DTEND;TZID=Europe/Berlin:20210121T170000
SUMMARY: Etienne Baluze face à la lutte des grandes familles féodales contr
 e l’affermissement du pouvoir royal (avec Laura Viat) (Online-Vortrag)
DESCRIPTION: 21.1.2021\, Online https://univ-droit.fr/actualites-de-la-rech
 erche/manifestations/35989-regimes-dynastiques-et-modernite-politique  
X-ALT-DESC;FMTTYPE=text/html: <p>21.1.2021\, Online</p><p><a href="https://
 univ-droit.fr/actualites-de-la-recherche/manifestations/35989-regimes-dynas
 tiques-et-modernite-politique">https://univ-droit.fr/actualites-de-la-reche
 rche/manifestations/35989-regimes-dynastiques-et-modernite-politique</a></p
 ><p> </p><p>[av_button label='iCal-Export' link='./feed/eo-events' link_tar
 get='' size='small' position='center' label_display='' title_attr='' icon_s
 elect='yes' icon='ue85b' font='entypo-fontello' color='custom' custom_bg='#
 b5123e' custom_font='#ffffff' av_uid='' id='' custom_class='' admin_preview
 _bg='']</p>
CATEGORIES:Recht interdisziplinär
LOCATION:Online
GEO:0.000000;0.000000
ORGANIZER;CN="ViFa-Recht":MAILTO:vifa-recht@sbb.spk-berlin.de
URL;VALUE=URI:https://events.intrecht.de/termine/termin/etienne-baluze-face
 -a-la-lutte-des-grandes-familles-feodales-contre-laffermissement-du-pouvoir
 -royal-avec-laura-viat-online-vortrag/
END:VEVENT
BEGIN:VTIMEZONE
TZID:Europe/Berlin
BEGIN:STANDARD
TZOFFSETFROM:+0200
TZOFFSETTO:+0100
DTSTART:20201025T010000
TZNAME:CET
END:STANDARD
END:VTIMEZONE
END:VCALENDAR
