BEGIN:VCALENDAR
VERSION:2.0
PRODID:-//Events | FID-Recht//NONSGML Events//EN
CALSCALE:GREGORIAN
X-ORIGINAL-URL:https://events.intrecht.de/termine/
X-WR-CALDESC:Events | FID-Recht - Events
BEGIN:VEVENT
UID:20200602T0945Z-1591091115.9737-EO-599-1@172.16.200.141
STATUS:CONFIRMED
DTSTAMP:20260423T065836Z
CREATED:20251120T135546Z
LAST-MODIFIED:20251120T135546Z
DTSTART;VALUE=DATE:20260702
DTEND;VALUE=DATE:20260704
SUMMARY: Ethnography and Law: Methods and Challenges in Times of Crisis (Wo
 rkshop)
DESCRIPTION: 2.-3.7.2026 / Hamburg (Einreichungsfrist: 31.12.2025) https://
 www.soziopolis.de/fileadmin/Editorial/Calls/CfP-Ethnography_and_Law_Worksho
 p-Hamburg-20251.pdf
X-ALT-DESC;FMTTYPE=text/html: <p>2.-3.7.2026 / Hamburg <strong>(Einreichung
 sfrist: 31.12.2025)</strong></p><p><a href="https://www.soziopolis.de/filea
 dmin/Editorial/Calls/CfP-Ethnography_and_Law_Workshop-Hamburg-20251.pdf">ht
 tps://www.soziopolis.de/fileadmin/Editorial/Calls/CfP-Ethnography_and_Law_W
 orkshop-Hamburg-20251.pdf</a></p><p>[av_button label='iCal-Export' link='./
 feed/eo-events' link_target='' size='small' position='center' label_display
 ='' title_attr='' icon_select='yes' icon='ue85b' font='entypo-fontello' col
 or='custom' custom_bg='#b5123e' custom_font='#ffffff' av_uid='' id='' custo
 m_class='' admin_preview_bg='']</p>
CATEGORIES:Recht interdisziplinär
LOCATION:Inland
GEO:0.000000;0.000000
ORGANIZER;CN="ViFa-Recht":MAILTO:vifa-recht@sbb.spk-berlin.de
URL;VALUE=URI:https://events.intrecht.de/termine/termin/ethnography-and-law
 -methods-and-challenges-in-times-of-crisis-workshop/
END:VEVENT
BEGIN:VTIMEZONE
TZID:Europe/Berlin
BEGIN:DAYLIGHT
TZOFFSETFROM:+0100
TZOFFSETTO:+0200
DTSTART:20260329T010000
TZNAME:CEST
END:DAYLIGHT
END:VTIMEZONE
END:VCALENDAR
