BEGIN:VCALENDAR
VERSION:2.0
PRODID:-//Events | FID-Recht//NONSGML Events//EN
CALSCALE:GREGORIAN
X-ORIGINAL-URL:https://events.intrecht.de/termine/
X-WR-CALDESC:Events | FID-Recht - Events
BEGIN:VEVENT
UID:20200603T1418Z-1591193923.3362-EO-587-1@172.16.200.141
STATUS:CONFIRMED
DTSTAMP:20260422T230407Z
CREATED:20240613T092553Z
LAST-MODIFIED:20240613T092553Z
DTSTART;VALUE=DATE:20240716
DTEND;VALUE=DATE:20240717
SUMMARY: Ethnographic Insights into the Bureaucratization of Justice in Chi
 le (Online Event)
DESCRIPTION: 16.7.2024 / Online https://law.mpg.de/event/ethnographic-insig
 hts-into-the-bureaucratization-of-justice-in-chile/
X-ALT-DESC;FMTTYPE=text/html: <p>16.7.2024 / Online</p><p><a href="https://
 law.mpg.de/event/ethnographic-insights-into-the-bureaucratization-of-justic
 e-in-chile/">https://law.mpg.de/event/ethnographic-insights-into-the-bureau
 cratization-of-justice-in-chile/</a></p><p>[av_button label='iCal-Export' l
 ink='./feed/eo-events' link_target='' size='small' position='center' label_
 display='' title_attr='' icon_select='yes' icon='ue85b' font='entypo-fontel
 lo' color='custom' custom_bg='#b5123e' custom_font='#ffffff' av_uid='' id='
 ' custom_class='' admin_preview_bg='']</p>
CATEGORIES:Recht interdisziplinär
LOCATION:Online
GEO:0.000000;0.000000
ORGANIZER;CN="ViFa-Recht":MAILTO:vifa-recht@sbb.spk-berlin.de
URL;VALUE=URI:https://events.intrecht.de/termine/termin/ethnographic-insigh
 ts-into-the-bureaucratization-of-justice-in-chile-online-event/
END:VEVENT
BEGIN:VTIMEZONE
TZID:Europe/Berlin
BEGIN:DAYLIGHT
TZOFFSETFROM:+0100
TZOFFSETTO:+0200
DTSTART:20240331T010000
TZNAME:CEST
END:DAYLIGHT
END:VTIMEZONE
END:VCALENDAR
