BEGIN:VCALENDAR
VERSION:2.0
PRODID:-//Events | FID-Recht//NONSGML Events//EN
CALSCALE:GREGORIAN
X-ORIGINAL-URL:https://events.intrecht.de/termine/
X-WR-CALDESC:Events | FID-Recht - Events
BEGIN:VEVENT
UID:20200603T1418Z-1591193923.3362-EO-587-1@172.16.200.141
STATUS:CONFIRMED
DTSTAMP:20260425T134150Z
CREATED:20230413T080418Z
LAST-MODIFIED:20230413T080418Z
DTSTART;VALUE=DATE:20230418
DTEND;VALUE=DATE:20230419
SUMMARY: Ethnic and social inequalities in access to health care – Evidence
  from a nation-wide field experiment in Germany (WZB Talk)
DESCRIPTION: 18.4.2023 / Online https://www.wzb.eu/de/node/77281
X-ALT-DESC;FMTTYPE=text/html: <p>18.4.2023 / Online</p><p><a href="https://
 www.wzb.eu/de/node/77281">https://www.wzb.eu/de/node/77281</a></p><p>[av_bu
 tton label='iCal-Export' link='./feed/eo-events' link_target='' size='small
 ' position='center' label_display='' title_attr='' icon_select='yes' icon='
 ue85b' font='entypo-fontello' color='custom' custom_bg='#b5123e' custom_fon
 t='#ffffff' av_uid='' id='' custom_class='' admin_preview_bg='']</p>
CATEGORIES:Recht interdisziplinär
LOCATION:Online
GEO:0.000000;0.000000
ORGANIZER;CN="ViFa-Recht":MAILTO:vifa-recht@sbb.spk-berlin.de
URL;VALUE=URI:https://events.intrecht.de/termine/termin/ethnic-and-social-i
 nequalities-in-access-to-health-care-evidence-from-a-nation-wide-field-expe
 riment-in-germany-wzb-talk/
END:VEVENT
BEGIN:VTIMEZONE
TZID:Europe/Berlin
BEGIN:DAYLIGHT
TZOFFSETFROM:+0100
TZOFFSETTO:+0200
DTSTART:20230326T010000
TZNAME:CEST
END:DAYLIGHT
END:VTIMEZONE
END:VCALENDAR
