BEGIN:VCALENDAR
VERSION:2.0
PRODID:-//Events | FID-Recht//NONSGML Events//EN
CALSCALE:GREGORIAN
X-ORIGINAL-URL:https://events.intrecht.de/termine/
X-WR-CALDESC:Events | FID-Recht - Events
BEGIN:VEVENT
UID:20200602T0945Z-1591091115.9737-EO-599-1@172.16.200.141
STATUS:CONFIRMED
DTSTAMP:20260423T052630Z
CREATED:20251124T151753Z
LAST-MODIFIED:20251124T151753Z
DTSTART;VALUE=DATE:20260205
DTEND;VALUE=DATE:20260206
SUMMARY: Erziehen\, Strafen\, Diziplinieren? Eine ethnogragische Studie in 
 der Berliner Jugenddiversion (Online Event)
DESCRIPTION: 5.2.2026 / Online https://rechtssoziologie.info/2025/07/23/wer
 kstattgespraeche-recht-und-gesellschaft-3/
X-ALT-DESC;FMTTYPE=text/html: <p>5.2.2026 / Online</p><p><a href="https://r
 echtssoziologie.info/2025/07/23/werkstattgespraeche-recht-und-gesellschaft-
 3/">https://rechtssoziologie.info/2025/07/23/werkstattgespraeche-recht-und-
 gesellschaft-3/</a></p><p>[av_button label='iCal-Export' link='./feed/eo-ev
 ents' link_target='' size='small' position='center' label_display='' title_
 attr='' icon_select='yes' icon='ue85b' font='entypo-fontello' color='custom
 ' custom_bg='#b5123e' custom_font='#ffffff' av_uid='' id='' custom_class=''
  admin_preview_bg='']</p>
CATEGORIES:Recht interdisziplinär
LOCATION:Online
GEO:0.000000;0.000000
ORGANIZER;CN="ViFa-Recht":MAILTO:vifa-recht@sbb.spk-berlin.de
URL;VALUE=URI:https://events.intrecht.de/termine/termin/erziehen-strafen-di
 ziplinieren-eine-ethnogragische-studie-in-der-berliner-jugenddiversion-onli
 ne-event/
END:VEVENT
BEGIN:VTIMEZONE
TZID:Europe/Berlin
BEGIN:STANDARD
TZOFFSETFROM:+0200
TZOFFSETTO:+0100
DTSTART:20251026T010000
TZNAME:CET
END:STANDARD
END:VTIMEZONE
END:VCALENDAR
