BEGIN:VCALENDAR
VERSION:2.0
PRODID:-//Events | FID-Recht//NONSGML Events//EN
CALSCALE:GREGORIAN
X-ORIGINAL-URL:https://events.intrecht.de/termine/
X-WR-CALDESC:Events | FID-Recht - Events
BEGIN:VEVENT
UID:20200603T1418Z-1591193923.3362-EO-587-1@172.16.200.141
STATUS:CONFIRMED
DTSTAMP:20260426T002848Z
CREATED:20230227T121842Z
LAST-MODIFIED:20230227T121842Z
DTSTART;VALUE=DATE:20230626
DTEND;VALUE=DATE:20230627
SUMMARY: Erster „Österreichischer Tag der Parlamentsforschung“
DESCRIPTION: 26.6.2023 / Wien (Frist für Einreichungen: 16.4.2023) https://
 www.parlament.gv.at/dokument/fachinfos/parlamentsforschung/Tag-der-Parlamen
 tsforschung-2023_Call-final_Feb-2023.pdf
X-ALT-DESC;FMTTYPE=text/html: <p>26.6.2023 / Wien <strong>(Frist für Einrei
 chungen: 16.4.2023)</strong></p><p><a href="https://www.parlament.gv.at/dok
 ument/fachinfos/parlamentsforschung/Tag-der-Parlamentsforschung-2023_Call-f
 inal_Feb-2023.pdf">https://www.parlament.gv.at/dokument/fachinfos/parlament
 sforschung/Tag-der-Parlamentsforschung-2023_Call-final_Feb-2023.pdf</a></p>
 <p>[av_button label='iCal-Export' link='./feed/eo-events' link_target='' si
 ze='small' position='center' label_display='' title_attr='' icon_select='ye
 s' icon='ue85b' font='entypo-fontello' color='custom' custom_bg='#b5123e' c
 ustom_font='#ffffff' av_uid='' id='' custom_class='' admin_preview_bg='']</
 p>
CATEGORIES:Recht interdisziplinär
LOCATION:Ausland
GEO:0.000000;0.000000
ORGANIZER;CN="ViFa-Recht":MAILTO:vifa-recht@sbb.spk-berlin.de
URL;VALUE=URI:https://events.intrecht.de/termine/termin/erster-oesterreichi
 scher-tag-der-parlamentsforschung/
END:VEVENT
BEGIN:VTIMEZONE
TZID:Europe/Berlin
BEGIN:DAYLIGHT
TZOFFSETFROM:+0100
TZOFFSETTO:+0200
DTSTART:20230326T010000
TZNAME:CEST
END:DAYLIGHT
END:VTIMEZONE
END:VCALENDAR
