BEGIN:VCALENDAR
VERSION:2.0
PRODID:-//Events | FID-Recht//NONSGML Events//EN
CALSCALE:GREGORIAN
X-ORIGINAL-URL:https://events.intrecht.de/termine/
X-WR-CALDESC:Events | FID-Recht - Events
BEGIN:VEVENT
UID:20200603T1418Z-1591193923.3362-EO-587-1@172.16.200.141
STATUS:CONFIRMED
DTSTAMP:20260425T201809Z
CREATED:20230330T093723Z
LAST-MODIFIED:20230330T093723Z
DTSTART;VALUE=DATE:20230511
DTEND;VALUE=DATE:20230513
SUMMARY: Erbrecht im Mitteleuropa der Zwischenkriegszeit (Symposium)
DESCRIPTION: 11.-12.5.2023 / Regensburg https://www.hsozkult.de/event/id/ev
 ent-135236?title=erbrecht-im-mitteleuropa-der-zwischenkriegszeit&recno=11&q
 =&sort=&fq=&total=851
X-ALT-DESC;FMTTYPE=text/html: <p>11.-12.5.2023 / Regensburg</p><p><a href="
 https://www.hsozkult.de/event/id/event-135236?title=erbrecht-im-mitteleurop
 a-der-zwischenkriegszeit&recno=11&q=&sort=&fq=&total=851">https://www.hsozk
 ult.de/event/id/event-135236?title=erbrecht-im-mitteleuropa-der-zwischenkri
 egszeit&recno=11&q=&sort=&fq=&total=851</a></p><p>[av_button label='iCal-Ex
 port' link='./feed/eo-events' link_target='' size='small' position='center'
  label_display='' title_attr='' icon_select='yes' icon='ue85b' font='entypo
 -fontello' color='custom' custom_bg='#b5123e' custom_font='#ffffff' av_uid=
 '' id='' custom_class='' admin_preview_bg='']</p>
CATEGORIES:Recht interdisziplinär
LOCATION:Inland
GEO:0.000000;0.000000
ORGANIZER;CN="ViFa-Recht":MAILTO:vifa-recht@sbb.spk-berlin.de
URL;VALUE=URI:https://events.intrecht.de/termine/termin/erbrecht-im-mittele
 uropa-der-zwischenkriegszeit-symposium/
END:VEVENT
BEGIN:VTIMEZONE
TZID:Europe/Berlin
BEGIN:DAYLIGHT
TZOFFSETFROM:+0100
TZOFFSETTO:+0200
DTSTART:20230326T010000
TZNAME:CEST
END:DAYLIGHT
END:VTIMEZONE
END:VCALENDAR
