BEGIN:VCALENDAR
VERSION:2.0
PRODID:-//Events | FID-Recht//NONSGML Events//EN
CALSCALE:GREGORIAN
X-ORIGINAL-URL:https://events.intrecht.de/termine/
X-WR-CALDESC:Events | FID-Recht - Events
BEGIN:VEVENT
UID:20200603T1418Z-1591193923.3362-EO-587-1@172.16.200.141
STATUS:CONFIRMED
DTSTAMP:20260422T154607Z
CREATED:20240425T120841Z
LAST-MODIFIED:20240425T120841Z
DTSTART;VALUE=DATE:20241007
DTEND;VALUE=DATE:20241009
SUMMARY: Equality in an Unequal Europe? Assessing Anti-Discrimination Law i
 n Context (Third European Law Group Conference for Young Scholars 2024)
DESCRIPTION: 7.-8.10.2024 / Berlin (Einreichungsfrist: 10.5.2024) https://l
 aw.mpg.de/event/equality-in-an-unequal-europe-assessing-anti-discrimination
 -law-in-context/
X-ALT-DESC;FMTTYPE=text/html: <p>7.-8.10.2024 / Berlin <strong>(Einreichung
 sfrist: 10.5.2024)</strong></p><p><a href="https://law.mpg.de/event/equalit
 y-in-an-unequal-europe-assessing-anti-discrimination-law-in-context/">https
 ://law.mpg.de/event/equality-in-an-unequal-europe-assessing-anti-discrimina
 tion-law-in-context/</a></p><p>[av_button label='iCal-Export' link='./feed/
 eo-events' link_target='' size='small' position='center' label_display='' t
 itle_attr='' icon_select='yes' icon='ue85b' font='entypo-fontello' color='c
 ustom' custom_bg='#b5123e' custom_font='#ffffff' av_uid='' id='' custom_cla
 ss='' admin_preview_bg='']</p>
CATEGORIES:Europäisches / Internationales Recht
LOCATION:Inland
GEO:0.000000;0.000000
ORGANIZER;CN="ViFa-Recht":MAILTO:vifa-recht@sbb.spk-berlin.de
URL;VALUE=URI:https://events.intrecht.de/termine/termin/equality-in-an-uneq
 ual-europe-assessing-anti-discrimination-law-in-context-third-european-law-
 group-conference-for-young-scholars-2024/
END:VEVENT
BEGIN:VTIMEZONE
TZID:Europe/Berlin
BEGIN:DAYLIGHT
TZOFFSETFROM:+0100
TZOFFSETTO:+0200
DTSTART:20240331T010000
TZNAME:CEST
END:DAYLIGHT
END:VTIMEZONE
END:VCALENDAR
