BEGIN:VCALENDAR
VERSION:2.0
PRODID:-//Events | FID-Recht//NONSGML Events//EN
CALSCALE:GREGORIAN
X-ORIGINAL-URL:https://events.intrecht.de/termine/
X-WR-CALDESC:Events | FID-Recht - Events
BEGIN:VEVENT
UID:20200603T1418Z-1591193923.3362-EO-587-1@172.16.200.141
STATUS:CONFIRMED
DTSTAMP:20260422T110422Z
CREATED:20240119T174257Z
LAST-MODIFIED:20240119T174257Z
DTSTART;VALUE=DATE:20240221
DTEND;VALUE=DATE:20240222
SUMMARY: Equality and Non-Discrimination in Armed Conflict\, Humanitarian a
 nd Human Rights Law in Practice (Book Launch)
DESCRIPTION: 21.2.2024 / Genf https://www.geneva-academy.ch/event/all-event
 s/detail/437-book-launch-equality-and-non-discrimination-in-armed-conflict-
 humanitarian-and-human-rights-law-in-practice
X-ALT-DESC;FMTTYPE=text/html: <p>21.2.2024 / Genf</p><p><a href="https://ww
 w.geneva-academy.ch/event/all-events/detail/437-book-launch-equality-and-no
 n-discrimination-in-armed-conflict-humanitarian-and-human-rights-law-in-pra
 ctice">https://www.geneva-academy.ch/event/all-events/detail/437-book-launc
 h-equality-and-non-discrimination-in-armed-conflict-humanitarian-and-human-
 rights-law-in-practice</a></p><p>[av_button label='iCal-Export' link='./fee
 d/eo-events' link_target='' size='small' position='center' label_display=''
  title_attr='' icon_select='yes' icon='ue85b' font='entypo-fontello' color=
 'custom' custom_bg='#b5123e' custom_font='#ffffff' av_uid='' id='' custom_c
 lass='' admin_preview_bg='']</p>
CATEGORIES:Europäisches / Internationales Recht
LOCATION:Ausland
GEO:0.000000;0.000000
ORGANIZER;CN="ViFa-Recht":MAILTO:vifa-recht@sbb.spk-berlin.de
URL;VALUE=URI:https://events.intrecht.de/termine/termin/equality-and-non-di
 scrimination-in-armed-conflict-humanitarian-and-human-rights-law-in-practic
 e-book-launch/
END:VEVENT
BEGIN:VTIMEZONE
TZID:Europe/Berlin
BEGIN:STANDARD
TZOFFSETFROM:+0200
TZOFFSETTO:+0100
DTSTART:20231029T010000
TZNAME:CET
END:STANDARD
END:VTIMEZONE
END:VCALENDAR
