BEGIN:VCALENDAR
VERSION:2.0
PRODID:-//Events | FID-Recht//NONSGML Events//EN
CALSCALE:GREGORIAN
X-ORIGINAL-URL:https://events.intrecht.de/termine/
X-WR-CALDESC:Events | FID-Recht - Events
BEGIN:VEVENT
UID:20230122T2006Z-1674417963.331-EO-7998-1@172.16.200.151
STATUS:CONFIRMED
DTSTAMP:20260421T201517Z
CREATED:20230116T103457Z
LAST-MODIFIED:20230116T103457Z
DTSTART;VALUE=DATE:20230131
DTEND;VALUE=DATE:20230201
SUMMARY: Equality and Inclusion in the European Elections (Webinar)
DESCRIPTION: 31.1.2023 / Online https://us06web.zoom.us/webinar/register/WN
 _EVf3Z-6DQZuGnAbKFlH4dA  
X-ALT-DESC;FMTTYPE=text/html: <p>31.1.2023 / Online</p><p><a href="https://
 us06web.zoom.us/webinar/register/WN_EVf3Z-6DQZuGnAbKFlH4dA">https://us06web
 .zoom.us/webinar/register/WN_EVf3Z-6DQZuGnAbKFlH4dA</a></p><p> </p><p>[av_b
 utton label='iCal-Export' link='./feed/eo-events' link_target='' size='smal
 l' position='center' label_display='' title_attr='' icon_select='yes' icon=
 'ue85b' font='entypo-fontello' color='custom' custom_bg='#b5123e' custom_fo
 nt='#ffffff' av_uid='' id='' custom_class='' admin_preview_bg='']</p>
CATEGORIES:Recht interdisziplinär
LOCATION:Online
GEO:0.000000;0.000000
ORGANIZER;CN="ViFa-Recht":MAILTO:vifa-recht@sbb.spk-berlin.de
URL;VALUE=URI:https://events.intrecht.de/termine/termin/equality-and-inclus
 ion-in-the-european-elections-webinar/
END:VEVENT
BEGIN:VTIMEZONE
TZID:Europe/Berlin
BEGIN:STANDARD
TZOFFSETFROM:+0200
TZOFFSETTO:+0100
DTSTART:20221030T010000
TZNAME:CET
END:STANDARD
END:VTIMEZONE
END:VCALENDAR
