BEGIN:VCALENDAR
VERSION:2.0
PRODID:-//Events | FID-Recht//NONSGML Events//EN
CALSCALE:GREGORIAN
X-ORIGINAL-URL:https://events.intrecht.de/termine/
X-WR-CALDESC:Events | FID-Recht - Events
BEGIN:VEVENT
UID:20200603T1418Z-1591193923.3362-EO-587-1@172.16.200.141
STATUS:CONFIRMED
DTSTAMP:20260422T211521Z
CREATED:20241104T135120Z
LAST-MODIFIED:20241104T135120Z
DTSTART;VALUE=DATE:20241106
DTEND;VALUE=DATE:20241107
SUMMARY: Equal Treatment in Poland Constitutional Protection and the Implem
 entation of EU Directives (Vortrag)
DESCRIPTION: 6.11.2024 / Berlin https://www.rewi.hu-berlin.de/en/lf/oe/lsi/
 lila-lunch-equal-treatment-in-poland-constitutional-protection-and-the-impl
 ementation-of-eu-directives
X-ALT-DESC;FMTTYPE=text/html: <p>6.11.2024 / Berlin</p><p><a href="https://
 www.rewi.hu-berlin.de/en/lf/oe/lsi/lila-lunch-equal-treatment-in-poland-con
 stitutional-protection-and-the-implementation-of-eu-directives">https://www
 .rewi.hu-berlin.de/en/lf/oe/lsi/lila-lunch-equal-treatment-in-poland-consti
 tutional-protection-and-the-implementation-of-eu-directives</a></p><p>[av_b
 utton label='iCal-Export' link='./feed/eo-events' link_target='' size='smal
 l' position='center' label_display='' title_attr='' icon_select='yes' icon=
 'ue85b' font='entypo-fontello' color='custom' custom_bg='#b5123e' custom_fo
 nt='#ffffff' av_uid='' id='' custom_class='' admin_preview_bg='']</p>
CATEGORIES:Europäisches / Internationales Recht
LOCATION:Inland
GEO:0.000000;0.000000
ORGANIZER;CN="ViFa-Recht":MAILTO:vifa-recht@sbb.spk-berlin.de
URL;VALUE=URI:https://events.intrecht.de/termine/termin/equal-treatment-in-
 poland-constitutional-protection-and-the-implementation-of-eu-directives-vo
 rtrag/
END:VEVENT
BEGIN:VTIMEZONE
TZID:Europe/Berlin
BEGIN:STANDARD
TZOFFSETFROM:+0200
TZOFFSETTO:+0100
DTSTART:20241027T010000
TZNAME:CET
END:STANDARD
END:VTIMEZONE
END:VCALENDAR
