BEGIN:VCALENDAR
VERSION:2.0
PRODID:-//Events | FID-Recht//NONSGML Events//EN
CALSCALE:GREGORIAN
X-ORIGINAL-URL:https://events.intrecht.de/termine/
X-WR-CALDESC:Events | FID-Recht - Events
BEGIN:VEVENT
UID:20200602T0945Z-1591091115.9737-EO-599-1@172.16.200.141
STATUS:CONFIRMED
DTSTAMP:20260426T033907Z
CREATED:20260310T090231Z
LAST-MODIFIED:20260310T090231Z
DTSTART;VALUE=DATE:20260326
DTEND;VALUE=DATE:20260328
SUMMARY: Equal Access to Justice: Between Normativity and Reality (Conferen
 ce)
DESCRIPTION: 26.-27.3.2026 / Berlin https://www.wzb.eu/en/events/conference
 -equal-access-to-justice-between-normativity-and-reality
X-ALT-DESC;FMTTYPE=text/html: <p>26.-27.3.2026 / Berlin</p><p><a href="http
 s://www.wzb.eu/en/events/conference-equal-access-to-justice-between-normati
 vity-and-reality">https://www.wzb.eu/en/events/conference-equal-access-to-j
 ustice-between-normativity-and-reality</a></p><p>[av_button label='iCal-Exp
 ort' link='./feed/eo-events' link_target='' size='small' position='center' 
 label_display='' title_attr='' icon_select='yes' icon='ue85b' font='entypo-
 fontello' color='custom' custom_bg='#b5123e' custom_font='#ffffff' av_uid='
 ' id='' custom_class='' admin_preview_bg='']</p>
CATEGORIES:Recht interdisziplinär
LOCATION:Inland
GEO:0.000000;0.000000
ORGANIZER;CN="ViFa-Recht":MAILTO:vifa-recht@sbb.spk-berlin.de
URL;VALUE=URI:https://events.intrecht.de/termine/termin/equal-access-to-jus
 tice-between-normativity-and-reality-conference/
END:VEVENT
BEGIN:VTIMEZONE
TZID:Europe/Berlin
BEGIN:STANDARD
TZOFFSETFROM:+0200
TZOFFSETTO:+0100
DTSTART:20251026T010000
TZNAME:CET
END:STANDARD
END:VTIMEZONE
END:VCALENDAR
