BEGIN:VCALENDAR
VERSION:2.0
PRODID:-//Events | FID-Recht//NONSGML Events//EN
CALSCALE:GREGORIAN
X-ORIGINAL-URL:https://events.intrecht.de/termine/
X-WR-CALDESC:Events | FID-Recht - Events
BEGIN:VEVENT
UID:20200603T1418Z-1591193923.3362-EO-587-1@172.16.200.141
STATUS:CONFIRMED
DTSTAMP:20260423T021302Z
CREATED:20241212T145016Z
LAST-MODIFIED:20241212T145016Z
DTSTART;VALUE=DATE:20250319
DTEND;VALUE=DATE:20250322
SUMMARY: Environment\, Law\, and Society (Winter School)
DESCRIPTION: 19.-21.3.2025 / Berlin https://www.rewi.hu-berlin.de/de/lf/oe/
 lsi/termine/winter-school-environment-law-and-society-19-03-21-03-1.2025
X-ALT-DESC;FMTTYPE=text/html: <p>19.-21.3.2025 / Berlin</p><p><a href="http
 s://www.rewi.hu-berlin.de/de/lf/oe/lsi/termine/winter-school-environment-la
 w-and-society-19-03-21-03-1.2025">https://www.rewi.hu-berlin.de/de/lf/oe/ls
 i/termine/winter-school-environment-law-and-society-19-03-21-03-1.2025</a><
 /p><p>[av_button label='iCal-Export' link='./feed/eo-events' link_target=''
  size='small' position='center' label_display='' title_attr='' icon_select=
 'yes' icon='ue85b' font='entypo-fontello' color='custom' custom_bg='#b5123e
 ' custom_font='#ffffff' av_uid='' id='' custom_class='' admin_preview_bg=''
 ]</p>
CATEGORIES:Recht interdisziplinär
LOCATION:Inland
GEO:0.000000;0.000000
ORGANIZER;CN="ViFa-Recht":MAILTO:vifa-recht@sbb.spk-berlin.de
URL;VALUE=URI:https://events.intrecht.de/termine/termin/environment-law-and
 -society-winter-school/
END:VEVENT
BEGIN:VTIMEZONE
TZID:Europe/Berlin
BEGIN:STANDARD
TZOFFSETFROM:+0200
TZOFFSETTO:+0100
DTSTART:20241027T010000
TZNAME:CET
END:STANDARD
END:VTIMEZONE
END:VCALENDAR
