BEGIN:VCALENDAR
VERSION:2.0
PRODID:-//Events | FID-Recht//NONSGML Events//EN
CALSCALE:GREGORIAN
X-ORIGINAL-URL:https://events.intrecht.de/termine/
X-WR-CALDESC:Events | FID-Recht - Events
BEGIN:VEVENT
UID:20230420T1117Z-1681989438.0718-EO-12690-1@172.16.200.151
STATUS:CONFIRMED
DTSTAMP:20260425T181309Z
CREATED:20230208T155816Z
LAST-MODIFIED:20230208T155816Z
DTSTART;VALUE=DATE:20230522
DTEND;VALUE=DATE:20230525
SUMMARY: Entanglements in Refugee and Migration Law: Celebrating forty year
 s of the Nordic Asylum Law Seminar (Konferenz)
DESCRIPTION: 22.-24.5.2023 / Kopenhagen (Frist für Einreichungen: 28.2.2023
 ) https://mobilitylaw.ku.dk/calendar/2023/eiraml/  
X-ALT-DESC;FMTTYPE=text/html: <p>22.-24.5.2023 / Kopenhagen <strong>(Frist 
 für Einreichungen: 28.2.2023)</strong></p><p><a href="https://mobilitylaw.k
 u.dk/calendar/2023/eiraml/">https://mobilitylaw.ku.dk/calendar/2023/eiraml/
 </a></p><p> </p><p>[av_button label='iCal-Export' link='./feed/eo-events' l
 ink_target='' size='small' position='center' label_display='' title_attr=''
  icon_select='yes' icon='ue85b' font='entypo-fontello' color='custom' custo
 m_bg='#b5123e' custom_font='#ffffff' av_uid='' id='' custom_class='' admin_
 preview_bg='']</p>
CATEGORIES:Recht interdisziplinär
LOCATION:Ausland
GEO:0.000000;0.000000
ORGANIZER;CN="ViFa-Recht":MAILTO:vifa-recht@sbb.spk-berlin.de
URL;VALUE=URI:https://events.intrecht.de/termine/termin/entanglements-in-re
 fugee-and-migration-law-celebrating-forty-years-of-the-nordic-asylum-law-se
 minar-konferenz/
END:VEVENT
BEGIN:VTIMEZONE
TZID:Europe/Berlin
BEGIN:DAYLIGHT
TZOFFSETFROM:+0100
TZOFFSETTO:+0200
DTSTART:20230326T010000
TZNAME:CEST
END:DAYLIGHT
END:VTIMEZONE
END:VCALENDAR
