BEGIN:VCALENDAR
VERSION:2.0
PRODID:-//Events | FID-Recht//NONSGML Events//EN
CALSCALE:GREGORIAN
X-ORIGINAL-URL:https://events.intrecht.de/termine/
X-WR-CALDESC:Events | FID-Recht - Events
BEGIN:VEVENT
UID:20200603T1418Z-1591193923.3362-EO-587-1@172.16.200.141
STATUS:CONFIRMED
DTSTAMP:20260422T123736Z
CREATED:20240411T161009Z
LAST-MODIFIED:20240411T161009Z
DTSTART;VALUE=DATE:20240521
DTEND;VALUE=DATE:20240522
SUMMARY: Enigmas of the Genocide Convention: 75 years after its adoption\, 
 puzzles remain (Hybrid Event)
DESCRIPTION: 21.5.2024 / Online und Nürnberg https://www.nurembergacademy.o
 rg/events/detail/d567b35628118f44a4b3d694a6d62d06/nuremberg-academy-lecture
 -2024-william-schabas-830/  
X-ALT-DESC;FMTTYPE=text/html: <p>21.5.2024 / Online und Nürnberg</p><p><a h
 ref="https://www.nurembergacademy.org/events/detail/d567b35628118f44a4b3d69
 4a6d62d06/nuremberg-academy-lecture-2024-william-schabas-830/">https://www.
 nurembergacademy.org/events/detail/d567b35628118f44a4b3d694a6d62d06/nurembe
 rg-academy-lecture-2024-william-schabas-830/</a></p><p> </p><p>[av_button l
 abel='iCal-Export' link='./feed/eo-events' link_target='' size='small' posi
 tion='center' label_display='' title_attr='' icon_select='yes' icon='ue85b'
  font='entypo-fontello' color='custom' custom_bg='#b5123e' custom_font='#ff
 ffff' av_uid='' id='' custom_class='' admin_preview_bg='']</p>
CATEGORIES:Europäisches / Internationales Recht
LOCATION:Hybrid
GEO:0.000000;0.000000
ORGANIZER;CN="ViFa-Recht":MAILTO:vifa-recht@sbb.spk-berlin.de
URL;VALUE=URI:https://events.intrecht.de/termine/termin/enigmas-of-the-geno
 cide-convention-75-years-after-its-adoption-puzzles-remain-hybrid-event/
END:VEVENT
BEGIN:VTIMEZONE
TZID:Europe/Berlin
BEGIN:DAYLIGHT
TZOFFSETFROM:+0100
TZOFFSETTO:+0200
DTSTART:20240331T010000
TZNAME:CEST
END:DAYLIGHT
END:VTIMEZONE
END:VCALENDAR
