BEGIN:VCALENDAR
VERSION:2.0
PRODID:-//Events | FID-Recht//NONSGML Events//EN
CALSCALE:GREGORIAN
X-ORIGINAL-URL:https://events.intrecht.de/termine/
X-WR-CALDESC:Events | FID-Recht - Events
BEGIN:VEVENT
UID:20200603T1418Z-1591193923.3362-EO-587-1@172.16.200.141
STATUS:CONFIRMED
DTSTAMP:20260422T154248Z
CREATED:20240503T101940Z
LAST-MODIFIED:20240503T101940Z
DTSTART;VALUE=DATE:20241107
DTEND;VALUE=DATE:20241109
SUMMARY: Enforcement of Rights in the Digital Space (Conference)
DESCRIPTION: 7.-8.11.2024 / Osnabrück (Einreichungsfrist: 15.5.2024) https:
 //conflictoflaws.net/News/2024/04/1713251971953-2.pdf
X-ALT-DESC;FMTTYPE=text/html: <p>7.-8.11.2024 / Osnabrück (<strong>Einreich
 ungsfrist: 15.5.2024)</strong></p><p><a href="https://conflictoflaws.net/Ne
 ws/2024/04/1713251971953-2.pdf">https://conflictoflaws.net/News/2024/04/171
 3251971953-2.pdf</a></p><p>[av_button label='iCal-Export' link='./feed/eo-e
 vents' link_target='' size='small' position='center' label_display='' title
 _attr='' icon_select='yes' icon='ue85b' font='entypo-fontello' color='custo
 m' custom_bg='#b5123e' custom_font='#ffffff' av_uid='' id='' custom_class='
 ' admin_preview_bg='']</p>
CATEGORIES:Recht interdisziplinär
LOCATION:Inland
GEO:0.000000;0.000000
ORGANIZER;CN="ViFa-Recht":MAILTO:vifa-recht@sbb.spk-berlin.de
URL;VALUE=URI:https://events.intrecht.de/termine/termin/enforcement-of-righ
 ts-in-the-digital-space-conference/
END:VEVENT
BEGIN:VTIMEZONE
TZID:Europe/Berlin
BEGIN:STANDARD
TZOFFSETFROM:+0200
TZOFFSETTO:+0100
DTSTART:20241027T010000
TZNAME:CET
END:STANDARD
END:VTIMEZONE
END:VCALENDAR
