BEGIN:VCALENDAR
VERSION:2.0
PRODID:-//Events | FID-Recht//NONSGML Events//EN
CALSCALE:GREGORIAN
X-ORIGINAL-URL:https://events.intrecht.de/termine/
X-WR-CALDESC:Events | FID-Recht - Events
BEGIN:VEVENT
UID:20220908T1452Z-1662648767.6057-EO-5568-1@172.16.200.151
STATUS:CONFIRMED
DTSTAMP:20260421T170142Z
CREATED:20220907T103745Z
LAST-MODIFIED:20220907T103835Z
DTSTART;VALUE=DATE:20221027
DTEND;VALUE=DATE:20221027
SUMMARY: Enabling Sustainable Mobility Practices in Europe (Tagung)
DESCRIPTION: 27.10.2022\, Amsterdam https://www.legalscholars.ac.uk/event/c
 onference-enabling-sustainable-mobility-practices-in-europe/  
X-ALT-DESC;FMTTYPE=text/html: <p>27.10.2022\, Amsterdam</p><p><a href="http
 s://www.legalscholars.ac.uk/event/conference-enabling-sustainable-mobility-
 practices-in-europe/">https://www.legalscholars.ac.uk/event/conference-enab
 ling-sustainable-mobility-practices-in-europe/</a></p><p> </p><p>[av_button
  label='iCal-Export' link='./feed/eo-events' link_target='' size='small' po
 sition='center' label_display='' title_attr='' icon_select='yes' icon='ue85
 b' font='entypo-fontello' color='custom' custom_bg='#b5123e' custom_font='#
 ffffff' av_uid='' id='' custom_class='' admin_preview_bg='']</p>
CATEGORIES:Recht interdisziplinär
LOCATION:Ausland
GEO:0.000000;0.000000
ORGANIZER;CN="ViFa-Recht":MAILTO:vifa-recht@sbb.spk-berlin.de
URL;VALUE=URI:https://events.intrecht.de/termine/termin/enabling-sustainabl
 e-mobility-practices-in-europe-tagung/
END:VEVENT
BEGIN:VTIMEZONE
TZID:Europe/Berlin
BEGIN:DAYLIGHT
TZOFFSETFROM:+0100
TZOFFSETTO:+0200
DTSTART:20220327T010000
TZNAME:CEST
END:DAYLIGHT
END:VTIMEZONE
END:VCALENDAR
