BEGIN:VCALENDAR
VERSION:2.0
PRODID:-//Events | FID-Recht//NONSGML Events//EN
CALSCALE:GREGORIAN
X-ORIGINAL-URL:https://events.intrecht.de/termine/
X-WR-CALDESC:Events | FID-Recht - Events
BEGIN:VEVENT
UID:20230418T0122Z-1681780942.605-EO-8192-1@172.16.200.151
STATUS:CONFIRMED
DTSTAMP:20260426T044952Z
CREATED:20230130T111758Z
LAST-MODIFIED:20230130T111758Z
DTSTART;VALUE=DATE:20230328
DTEND;VALUE=DATE:20230329
SUMMARY: Empirical Contributions to Doctrinal Research (Workshop)
DESCRIPTION: 28.3.2023 / Cambridge https://mcusercontent.com/47624183ad52dd
 8428c97d3f6/files/9c36e7c4-c430-a518-8720-480f9c586c39/Flyer.pdf  
X-ALT-DESC;FMTTYPE=text/html: <p>28.3.2023 / Cambridge</p><p><a href="https
 ://mcusercontent.com/47624183ad52dd8428c97d3f6/files/9c36e7c4-c430-a518-872
 0-480f9c586c39/Flyer.pdf">https://mcusercontent.com/47624183ad52dd8428c97d3
 f6/files/9c36e7c4-c430-a518-8720-480f9c586c39/Flyer.pdf</a></p><p> </p><p>[
 av_button label='iCal-Export' link='./feed/eo-events' link_target='' size='
 small' position='center' label_display='' title_attr='' icon_select='yes' i
 con='ue85b' font='entypo-fontello' color='custom' custom_bg='#b5123e' custo
 m_font='#ffffff' av_uid='' id='' custom_class='' admin_preview_bg='']</p>
CATEGORIES:Recht interdisziplinär
LOCATION:Ausland
GEO:0.000000;0.000000
ORGANIZER;CN="ViFa-Recht":MAILTO:vifa-recht@sbb.spk-berlin.de
URL;VALUE=URI:https://events.intrecht.de/termine/termin/empirical-contribut
 ions-to-doctrinal-research-workshop/
END:VEVENT
BEGIN:VTIMEZONE
TZID:Europe/Berlin
BEGIN:DAYLIGHT
TZOFFSETFROM:+0100
TZOFFSETTO:+0200
DTSTART:20230326T010000
TZNAME:CEST
END:DAYLIGHT
END:VTIMEZONE
END:VCALENDAR
