BEGIN:VCALENDAR
VERSION:2.0
PRODID:-//Events | FID-Recht//NONSGML Events//EN
CALSCALE:GREGORIAN
X-ORIGINAL-URL:https://events.intrecht.de/termine/
X-WR-CALDESC:Events | FID-Recht - Events
BEGIN:VEVENT
UID:20210302T1019Z-1614680392.6819-EO-3483-1@172.16.200.141
STATUS:CONFIRMED
DTSTAMP:20260421T203024Z
CREATED:20210219T135226Z
LAST-MODIFIED:20210219T135226Z
DTSTART;VALUE=DATE:20210304
DTEND;VALUE=DATE:20210304
SUMMARY: Émigration hispanique\, richesse monarchique\, et intérêts dynasti
 ques dans les Indes de Castille (1492-1700) (mit Alain Hugon) (Online-Vortr
 ag)
DESCRIPTION: 4.3.2021\, Online https://univ-droit.fr/actualites-de-la-reche
 rche/manifestations/35989-regimes-dynastiques-et-modernite-politique  
X-ALT-DESC;FMTTYPE=text/html: <p>4.3.2021\, Online</p><p><a href="https://u
 niv-droit.fr/actualites-de-la-recherche/manifestations/35989-regimes-dynast
 iques-et-modernite-politique">https://univ-droit.fr/actualites-de-la-recher
 che/manifestations/35989-regimes-dynastiques-et-modernite-politique</a></p>
 <p> </p><p>[av_button label='iCal-Export' link='./feed/eo-events' link_targ
 et='' size='small' position='center' label_display='' title_attr='' icon_se
 lect='yes' icon='ue85b' font='entypo-fontello' color='custom' custom_bg='#b
 5123e' custom_font='#ffffff' av_uid='' id='' custom_class='' admin_preview_
 bg='']</p>
CATEGORIES:Recht interdisziplinär
LOCATION:Online
GEO:0.000000;0.000000
ORGANIZER;CN="ViFa-Recht":MAILTO:vifa-recht@sbb.spk-berlin.de
URL;VALUE=URI:https://events.intrecht.de/termine/termin/emigration-hispaniq
 ue-richesse-monarchique-et-interets-dynastiques-dans-les-indes-de-castille-
 1492-1700-mit-alain-hugon-online-vortrag/
END:VEVENT
BEGIN:VTIMEZONE
TZID:Europe/Berlin
BEGIN:STANDARD
TZOFFSETFROM:+0200
TZOFFSETTO:+0100
DTSTART:20201025T010000
TZNAME:CET
END:STANDARD
END:VTIMEZONE
END:VCALENDAR
