BEGIN:VCALENDAR
VERSION:2.0
PRODID:-//Events | FID-Recht//NONSGML Events//EN
CALSCALE:GREGORIAN
X-ORIGINAL-URL:https://events.intrecht.de/termine/
X-WR-CALDESC:Events | FID-Recht - Events
BEGIN:VEVENT
UID:20200602T0945Z-1591091115.9737-EO-599-1@172.16.200.141
STATUS:CONFIRMED
DTSTAMP:20260423T052625Z
CREATED:20250909T122619Z
LAST-MODIFIED:20250909T122619Z
DTSTART;VALUE=DATE:20251117
DTEND;VALUE=DATE:20251119
SUMMARY: Emerging Disruptive Technology and Arms Control (T.M.C Asser Insti
 tute Early Career Conference)
DESCRIPTION: 17.-18.11.2025 / Den Haag (Einreichungsfrist: 29.9.2025) https
 ://www.asser.nl/media/798153/emerging-technology-and-arms-control_concept-n
 ote_final.pdf
X-ALT-DESC;FMTTYPE=text/html: <p>17.-18.11.2025 / Den Haag <strong>(Einreic
 hungsfrist: 29.9.2025)</strong></p><p><a href="https://www.asser.nl/media/7
 98153/emerging-technology-and-arms-control_concept-note_final.pdf">https://
 www.asser.nl/media/798153/emerging-technology-and-arms-control_concept-note
 _final.pdf</a></p><p>[av_button label='iCal-Export' link='./feed/eo-events'
  link_target='' size='small' position='center' label_display='' title_attr=
 '' icon_select='yes' icon='ue85b' font='entypo-fontello' color='custom' cus
 tom_bg='#b5123e' custom_font='#ffffff' av_uid='' id='' custom_class='' admi
 n_preview_bg='']</p>
CATEGORIES:Recht interdisziplinär
LOCATION:Ausland
GEO:0.000000;0.000000
ORGANIZER;CN="ViFa-Recht":MAILTO:vifa-recht@sbb.spk-berlin.de
URL;VALUE=URI:https://events.intrecht.de/termine/termin/emerging-disruptive
 -technology-and-arms-control-t-m-c-asser-institute-early-career-conference/
END:VEVENT
BEGIN:VTIMEZONE
TZID:Europe/Berlin
BEGIN:STANDARD
TZOFFSETFROM:+0200
TZOFFSETTO:+0100
DTSTART:20251026T010000
TZNAME:CET
END:STANDARD
END:VTIMEZONE
END:VCALENDAR
