BEGIN:VCALENDAR
VERSION:2.0
PRODID:-//Events | FID-Recht//NONSGML Events//EN
CALSCALE:GREGORIAN
X-ORIGINAL-URL:https://events.intrecht.de/termine/
X-WR-CALDESC:Events | FID-Recht - Events
BEGIN:VEVENT
UID:20200603T1418Z-1591193923.3362-EO-587-1@172.16.200.141
STATUS:CONFIRMED
DTSTAMP:20260423T005130Z
CREATED:20240307T085614Z
LAST-MODIFIED:20240307T085614Z
DTSTART;VALUE=DATE:20240313
DTEND;VALUE=DATE:20240314
SUMMARY: Eine psychologische Perspektive auf Justizirrtümer (Online Event /
  Öffentliche Vortragsreihe „Vielfalt der Rechtspsychologie – Putting Scienc
 e into Practice“)
DESCRIPTION: 13.3.2024 / Online https://www.psychologische-hochschule.de/ve
 ranstaltungen/vielfalt-der-rechtspsychologie-1-2024/
X-ALT-DESC;FMTTYPE=text/html: <p>13.3.2024 / Online</p><p><a href="https://
 www.psychologische-hochschule.de/veranstaltungen/vielfalt-der-rechtspsychol
 ogie-1-2024/">https://www.psychologische-hochschule.de/veranstaltungen/viel
 falt-der-rechtspsychologie-1-2024/</a></p><p>[av_button label='iCal-Export'
  link='./feed/eo-events' link_target='' size='small' position='center' labe
 l_display='' title_attr='' icon_select='yes' icon='ue85b' font='entypo-font
 ello' color='custom' custom_bg='#b5123e' custom_font='#ffffff' av_uid='' id
 ='' custom_class='' admin_preview_bg='']</p>
CATEGORIES:Recht interdisziplinär
LOCATION:Online
GEO:0.000000;0.000000
ORGANIZER;CN="ViFa-Recht":MAILTO:vifa-recht@sbb.spk-berlin.de
URL;VALUE=URI:https://events.intrecht.de/termine/termin/eine-psychologische
 -perspektive-auf-justizirrtuemer-online-event-oeffentliche-vortragsreihe-vi
 elfalt-der-rechtspsychologie-putting-science-into-practice/
END:VEVENT
BEGIN:VTIMEZONE
TZID:Europe/Berlin
BEGIN:STANDARD
TZOFFSETFROM:+0200
TZOFFSETTO:+0100
DTSTART:20231029T010000
TZNAME:CET
END:STANDARD
END:VTIMEZONE
END:VCALENDAR
