BEGIN:VCALENDAR
VERSION:2.0
PRODID:-//Events | FID-Recht//NONSGML Events//EN
CALSCALE:GREGORIAN
X-ORIGINAL-URL:https://events.intrecht.de/termine/
X-WR-CALDESC:Events | FID-Recht - Events
BEGIN:VEVENT
UID:20200602T0945Z-1591091115.9737-EO-599-1@172.16.200.141
STATUS:CONFIRMED
DTSTAMP:20260423T003432Z
CREATED:20251120T132849Z
LAST-MODIFIED:20251120T132849Z
DTSTART;VALUE=DATE:20251125
DTEND;VALUE=DATE:20251126
SUMMARY: Eine Haftungskette für die Lieferkette – Subsidiäre Haftung von Wi
 rtschaftsakteuren derselben Lieferkette (Sustainable Private Law Talks)
DESCRIPTION: 25.11.2025 / Online und Hamburg https://events.mpipriv.de/b?p=
 sustainable_private_law_talks_mit_antonia_sommerfeld
X-ALT-DESC;FMTTYPE=text/html: <p>25.11.2025 / Online und Hamburg</p><p><a h
 ref="https://events.mpipriv.de/b?p=sustainable_private_law_talks_mit_antoni
 a_sommerfeld">https://events.mpipriv.de/b?p=sustainable_private_law_talks_m
 it_antonia_sommerfeld</a></p><p>[av_button label='iCal-Export' link='./feed
 /eo-events' link_target='' size='small' position='center' label_display='' 
 title_attr='' icon_select='yes' icon='ue85b' font='entypo-fontello' color='
 custom' custom_bg='#b5123e' custom_font='#ffffff' av_uid='' id='' custom_cl
 ass='' admin_preview_bg='']</p>
CATEGORIES:Zivilrecht
LOCATION:Hybrid
GEO:0.000000;0.000000
ORGANIZER;CN="ViFa-Recht":MAILTO:vifa-recht@sbb.spk-berlin.de
URL;VALUE=URI:https://events.intrecht.de/termine/termin/eine-haftungskette-
 fuer-die-lieferkette-subsidiaere-haftung-von-wirtschaftsakteuren-derselben-
 lieferkette-sustainable-private-law-talks/
END:VEVENT
BEGIN:VTIMEZONE
TZID:Europe/Berlin
BEGIN:STANDARD
TZOFFSETFROM:+0200
TZOFFSETTO:+0100
DTSTART:20251026T010000
TZNAME:CET
END:STANDARD
END:VTIMEZONE
END:VCALENDAR
