BEGIN:VCALENDAR
VERSION:2.0
PRODID:-//Events | FID-Recht//NONSGML Events//EN
CALSCALE:GREGORIAN
X-ORIGINAL-URL:https://events.intrecht.de/termine/
X-WR-CALDESC:Events | FID-Recht - Events
BEGIN:VEVENT
UID:20210909T0055Z-1631148916.1484-EO-4167-1@172.16.200.141
STATUS:CONFIRMED
DTSTAMP:20260422T231518Z
CREATED:20210907T072346Z
LAST-MODIFIED:20210907T072346Z
DTSTART;VALUE=DATE:20210912
DTEND;VALUE=DATE:20210913
SUMMARY: Ein Volkskanzler (von Max Steinbeis) (Online-Filmvorführung und –D
 iskussion)
DESCRIPTION: 12.9.2021\, Online „Ein Volkskanzler“: Der Film – Verfassungsb
 log  
X-ALT-DESC;FMTTYPE=text/html: <p>12.9.2021\, Online</p><p><a href="https://
 verfassungsblog.de/ein-volkskanzler-stream/">„Ein Volkskanzler“: Der Film –
  Verfassungsblog</a></p><p> </p><p>[av_button label='iCal-Export' link='./f
 eed/eo-events' link_target='' size='small' position='center' label_display=
 '' title_attr='' icon_select='yes' icon='ue85b' font='entypo-fontello' colo
 r='custom' custom_bg='#b5123e' custom_font='#ffffff' av_uid='' id='' custom
 _class='' admin_preview_bg='']</p>
CATEGORIES:Öffentliches Recht,Recht interdisziplinär
LOCATION:Online
GEO:0.000000;0.000000
ORGANIZER;CN="ViFa-Recht":MAILTO:vifa-recht@sbb.spk-berlin.de
URL;VALUE=URI:https://events.intrecht.de/termine/termin/ein-volkskanzler-vo
 n-max-steinbeis-online-filmvorfuehrung-und-diskussion/
END:VEVENT
BEGIN:VTIMEZONE
TZID:Europe/Berlin
BEGIN:DAYLIGHT
TZOFFSETFROM:+0100
TZOFFSETTO:+0200
DTSTART:20210328T010000
TZNAME:CEST
END:DAYLIGHT
END:VTIMEZONE
END:VCALENDAR
