BEGIN:VCALENDAR
VERSION:2.0
PRODID:-//Events | FID-Recht//NONSGML Events//EN
CALSCALE:GREGORIAN
X-ORIGINAL-URL:https://events.intrecht.de/termine/
X-WR-CALDESC:Events | FID-Recht - Events
BEGIN:VEVENT
UID:20200623T1358Z-1592920681.2649-EO-969-1@172.16.200.141
STATUS:CONFIRMED
DTSTAMP:20260422T142944Z
CREATED:20200922T165507Z
LAST-MODIFIED:20200925T100754Z
DTSTART;VALUE=DATE:20200611
DTEND;VALUE=DATE:20200611
SUMMARY: Ein Antidiskriminierungsgesetz für Berlin! (Online-Podiumsdiskussi
 on)
DESCRIPTION: 11.6.2020\, Online http://hlcmr.de/11-06-online-podiumsdiskuss
 ion-ein-antidiskriminierungsgesetz-fuer-berlin/  
X-ALT-DESC;FMTTYPE=text/html: <p>11.6.2020\, Online</p><p><a href="http://h
 lcmr.de/11-06-online-podiumsdiskussion-ein-antidiskriminierungsgesetz-fuer-
 berlin/">http://hlcmr.de/11-06-online-podiumsdiskussion-ein-antidiskriminie
 rungsgesetz-fuer-berlin/</a></p><p> </p><p>[av_button label='iCal-Export' l
 ink='./feed/eo-events' link_target='' size='small' position='center' label_
 display='' title_attr='' icon_select='yes' icon='ue85b' font='entypo-fontel
 lo' color='custom' custom_bg='#b5123e' custom_font='#ffffff' av_uid='' id='
 ' custom_class='' admin_preview_bg='']</p>
CATEGORIES:Öffentliches Recht
LOCATION:Online
GEO:0.000000;0.000000
ORGANIZER;CN="ViFa-Recht":MAILTO:vifa-recht@sbb.spk-berlin.de
URL;VALUE=URI:https://events.intrecht.de/termine/termin/ein-antidiskriminie
 rungsgesetz-fuer-berlin-online-podiumsdiskussion/
END:VEVENT
BEGIN:VTIMEZONE
TZID:Europe/Berlin
BEGIN:DAYLIGHT
TZOFFSETFROM:+0100
TZOFFSETTO:+0200
DTSTART:20200329T010000
TZNAME:CEST
END:DAYLIGHT
END:VTIMEZONE
END:VCALENDAR
