BEGIN:VCALENDAR
VERSION:2.0
PRODID:-//Events | FID-Recht//NONSGML Events//EN
CALSCALE:GREGORIAN
X-ORIGINAL-URL:https://events.intrecht.de/termine/
X-WR-CALDESC:Events | FID-Recht - Events
BEGIN:VEVENT
UID:20200603T1418Z-1591193923.3362-EO-587-1@172.16.200.141
STATUS:CONFIRMED
DTSTAMP:20260425T145535Z
CREATED:20231025T095316Z
LAST-MODIFIED:20231025T095316Z
DTSTART;VALUE=DATE:20231102
DTEND;VALUE=DATE:20231104
SUMMARY: Eigentum und Eigentumspolitik im Deutschen Kaiserreich und in der 
 Weimarer Republik (Workshop)
DESCRIPTION: 2.-3.11.2023 / Jena https://sfb294-eigentum.de/de/termine/prop
 erty-and-property-policies-in-the-german-empire-and-the-weimar-republic/
X-ALT-DESC;FMTTYPE=text/html: <p>2.-3.11.2023 / Jena</p><p><a href="https:/
 /sfb294-eigentum.de/de/termine/property-and-property-policies-in-the-german
 -empire-and-the-weimar-republic/">https://sfb294-eigentum.de/de/termine/pro
 perty-and-property-policies-in-the-german-empire-and-the-weimar-republic/</
 a></p><p>[av_button label='iCal-Export' link='./feed/eo-events' link_target
 ='' size='small' position='center' label_display='' title_attr='' icon_sele
 ct='yes' icon='ue85b' font='entypo-fontello' color='custom' custom_bg='#b51
 23e' custom_font='#ffffff' av_uid='' id='' custom_class='' admin_preview_bg
 ='']</p>
CATEGORIES:Recht interdisziplinär
LOCATION:Inland
GEO:0.000000;0.000000
ORGANIZER;CN="ViFa-Recht":MAILTO:vifa-recht@sbb.spk-berlin.de
URL;VALUE=URI:https://events.intrecht.de/termine/termin/eigentum-und-eigent
 umspolitik-im-deutschen-kaiserreich-und-in-der-weimarer-republik-workshop/
END:VEVENT
BEGIN:VTIMEZONE
TZID:Europe/Berlin
BEGIN:STANDARD
TZOFFSETFROM:+0200
TZOFFSETTO:+0100
DTSTART:20231029T010000
TZNAME:CET
END:STANDARD
END:VTIMEZONE
END:VCALENDAR
