BEGIN:VCALENDAR
VERSION:2.0
PRODID:-//Events | FID-Recht//NONSGML Events//EN
CALSCALE:GREGORIAN
X-ORIGINAL-URL:https://events.intrecht.de/termine/
X-WR-CALDESC:Events | FID-Recht - Events
BEGIN:VEVENT
UID:20200603T1418Z-1591193923.3362-EO-587-1@172.16.200.141
STATUS:CONFIRMED
DTSTAMP:20260425T174826Z
CREATED:20230227T120656Z
LAST-MODIFIED:20230227T120656Z
DTSTART;VALUE=DATE:20230626
DTEND;VALUE=DATE:20230630
SUMMARY: Educational Justice and Sustainable Peace (Konferenz)
DESCRIPTION: 26.-29.6.2023 / Braunschweig (Anmeldefrist: 30.3.2023) https:/
 /www.gei.de/en/institute/career/georg-arnhold-program/international-summer-
 conference
X-ALT-DESC;FMTTYPE=text/html: <p>26.-29.6.2023 / Braunschweig <strong>(Anme
 ldefrist: 30.3.2023)</strong></p><p><a href="https://www.gei.de/en/institut
 e/career/georg-arnhold-program/international-summer-conference">https://www
 .gei.de/en/institute/career/georg-arnhold-program/international-summer-conf
 erence</a></p><p>[av_button label='iCal-Export' link='./feed/eo-events' lin
 k_target='' size='small' position='center' label_display='' title_attr='' i
 con_select='yes' icon='ue85b' font='entypo-fontello' color='custom' custom_
 bg='#b5123e' custom_font='#ffffff' av_uid='' id='' custom_class='' admin_pr
 eview_bg='']</p>
CATEGORIES:Recht interdisziplinär
LOCATION:Inland
GEO:0.000000;0.000000
ORGANIZER;CN="ViFa-Recht":MAILTO:vifa-recht@sbb.spk-berlin.de
URL;VALUE=URI:https://events.intrecht.de/termine/termin/educational-justice
 -and-sustainable-peace-konferenz/
END:VEVENT
BEGIN:VTIMEZONE
TZID:Europe/Berlin
BEGIN:DAYLIGHT
TZOFFSETFROM:+0100
TZOFFSETTO:+0200
DTSTART:20230326T010000
TZNAME:CEST
END:DAYLIGHT
END:VTIMEZONE
END:VCALENDAR
