BEGIN:VCALENDAR
VERSION:2.0
PRODID:-//Events | FID-Recht//NONSGML Events//EN
CALSCALE:GREGORIAN
X-ORIGINAL-URL:https://events.intrecht.de/termine/
X-WR-CALDESC:Events | FID-Recht - Events
BEGIN:VEVENT
UID:20200603T1418Z-1591193923.3362-EO-587-1@172.16.200.141
STATUS:CONFIRMED
DTSTAMP:20260422T154344Z
CREATED:20240111T135430Z
LAST-MODIFIED:20240111T135430Z
DTSTART;VALUE=DATE:20240610
DTEND;VALUE=DATE:20240614
SUMMARY: Education\, War & Peace: Understanding International Assistance an
 d Intervention in Conflict-Affected Contexts (Conference)
DESCRIPTION: 10.-13.6.2024 / Braunschweig (Einreichungsfrist: 4.2.2024) htt
 ps://www.gei.de/fileadmin/gei.de/pdf/institut/stipendien_stipendiaten/Georg
 -Arnhold-Programm/CfP_GAISC_2024_Education__War___Peace._Understanding_Inte
 rnational_Assistance_and_Intervention_in_Conflict-affected_Contexts.pdf
X-ALT-DESC;FMTTYPE=text/html: <p>10.-13.6.2024 / Braunschweig <strong>(Einr
 eichungsfrist: 4.2.2024)</strong></p><p><a href="https://www.gei.de/fileadm
 in/gei.de/pdf/institut/stipendien_stipendiaten/Georg-Arnhold-Programm/CfP_G
 AISC_2024_Education__War___Peace._Understanding_International_Assistance_an
 d_Intervention_in_Conflict-affected_Contexts.pdf">https://www.gei.de/filead
 min/gei.de/pdf/institut/stipendien_stipendiaten/Georg-Arnhold-Programm/CfP_
 GAISC_2024_Education__War___Peace._Understanding_International_Assistance_a
 nd_Intervention_in_Conflict-affected_Contexts.pdf</a></p><p>[av_button labe
 l='iCal-Export' link='./feed/eo-events' link_target='' size='small' positio
 n='center' label_display='' title_attr='' icon_select='yes' icon='ue85b' fo
 nt='entypo-fontello' color='custom' custom_bg='#b5123e' custom_font='#fffff
 f' av_uid='' id='' custom_class='' admin_preview_bg='']</p>
CATEGORIES:Recht interdisziplinär
LOCATION:Inland
GEO:0.000000;0.000000
ORGANIZER;CN="ViFa-Recht":MAILTO:vifa-recht@sbb.spk-berlin.de
URL;VALUE=URI:https://events.intrecht.de/termine/termin/education-war-peace
 -understanding-international-assistance-and-intervention-in-conflict-affect
 ed-contexts-conference/
END:VEVENT
BEGIN:VTIMEZONE
TZID:Europe/Berlin
BEGIN:DAYLIGHT
TZOFFSETFROM:+0100
TZOFFSETTO:+0200
DTSTART:20240331T010000
TZNAME:CEST
END:DAYLIGHT
END:VTIMEZONE
END:VCALENDAR
