BEGIN:VCALENDAR
VERSION:2.0
PRODID:-//Events | FID-Recht//NONSGML Events//EN
CALSCALE:GREGORIAN
X-ORIGINAL-URL:https://events.intrecht.de/termine/
X-WR-CALDESC:Events | FID-Recht - Events
BEGIN:VEVENT
UID:20200616T2152Z-1592344339.6329-EO-738-1@172.16.200.141
STATUS:CONFIRMED
DTSTAMP:20260421T102526Z
CREATED:20200603T114328Z
LAST-MODIFIED:20200603T114328Z
DTSTART;VALUE=DATE:20200618
DTEND;VALUE=DATE:20200620
SUMMARY: Dynamics of Collective Narration – A workshop on contemporary fact
 ual narratives in their social contexts (Workshop)
DESCRIPTION: 18.-20.6.2020\, Freiburg http://www.grk-erzaehlen.uni-freiburg
 .de/event/tagung-workshop-dynamics-of-collective-narration-a-workshop-on-co
 ntemporary-factual-narratives-in-their-social-contexts/  
X-ALT-DESC;FMTTYPE=text/html: <p>18.-20.6.2020\, Freiburg</p><p><a href="ht
 tp://www.grk-erzaehlen.uni-freiburg.de/event/tagung-workshop-dynamics-of-co
 llective-narration-a-workshop-on-contemporary-factual-narratives-in-their-s
 ocial-contexts/">http://www.grk-erzaehlen.uni-freiburg.de/event/tagung-work
 shop-dynamics-of-collective-narration-a-workshop-on-contemporary-factual-na
 rratives-in-their-social-contexts/</a></p><p> </p><p>[av_button label='iCal
 -Export' link='./feed/eo-events' link_target='' size='small' position='cent
 er' label_display='' title_attr='' icon_select='yes' icon='ue85b' font='ent
 ypo-fontello' color='custom' custom_bg='#b5123e' custom_font='#ffffff' av_u
 id='' id='' custom_class='' admin_preview_bg='']</p>
CATEGORIES:Recht interdisziplinär
LOCATION:Inland
GEO:0.000000;0.000000
ORGANIZER;CN="ViFa-Recht":MAILTO:vifa-recht@sbb.spk-berlin.de
URL;VALUE=URI:https://events.intrecht.de/termine/termin/dynamics-of-collect
 ive-narration-a-workshop-on-contemporary-factual-narratives-in-their-social
 -contexts-workshop/
END:VEVENT
BEGIN:VTIMEZONE
TZID:Europe/Berlin
BEGIN:DAYLIGHT
TZOFFSETFROM:+0100
TZOFFSETTO:+0200
DTSTART:20200329T010000
TZNAME:CEST
END:DAYLIGHT
END:VTIMEZONE
END:VCALENDAR
