BEGIN:VCALENDAR
VERSION:2.0
PRODID:-//Events | FID-Recht//NONSGML Events//EN
CALSCALE:GREGORIAN
X-ORIGINAL-URL:https://events.intrecht.de/termine/
X-WR-CALDESC:Events | FID-Recht - Events
BEGIN:VEVENT
UID:20200603T1418Z-1591193923.3362-EO-587-1@172.16.200.141
STATUS:CONFIRMED
DTSTAMP:20260422T230409Z
CREATED:20240613T094048Z
LAST-MODIFIED:20240613T094048Z
DTSTART;VALUE=DATE:20240819
DTEND;VALUE=DATE:20240824
SUMMARY: DRK-Sommerschule im Humanitären Völkerrecht
DESCRIPTION: 19.-23.8.2024 / Berlin (Bewerbungsfrist: 30.6.2024) https://ww
 w.drk.de/das-drk/auftrag-ziele-aufgaben-und-selbstverstaendnis-des-drk/huma
 nitaeres-voelkerrecht-im-kontext-des-drk/kurse-und-gremien/
X-ALT-DESC;FMTTYPE=text/html: <p>19.-23.8.2024 / Berlin <strong>(Bewerbungs
 frist: 30.6.2024)</strong></p><p><a href="https://www.drk.de/das-drk/auftra
 g-ziele-aufgaben-und-selbstverstaendnis-des-drk/humanitaeres-voelkerrecht-i
 m-kontext-des-drk/kurse-und-gremien/">https://www.drk.de/das-drk/auftrag-zi
 ele-aufgaben-und-selbstverstaendnis-des-drk/humanitaeres-voelkerrecht-im-ko
 ntext-des-drk/kurse-und-gremien/</a></p><p>[av_button label='iCal-Export' l
 ink='./feed/eo-events' link_target='' size='small' position='center' label_
 display='' title_attr='' icon_select='yes' icon='ue85b' font='entypo-fontel
 lo' color='custom' custom_bg='#b5123e' custom_font='#ffffff' av_uid='' id='
 ' custom_class='' admin_preview_bg='']</p>
CATEGORIES:Europäisches / Internationales Recht
LOCATION:Inland
GEO:0.000000;0.000000
ORGANIZER;CN="ViFa-Recht":MAILTO:vifa-recht@sbb.spk-berlin.de
URL;VALUE=URI:https://events.intrecht.de/termine/termin/drk-sommerschule-im
 -humanitaeren-voelkerrecht/
END:VEVENT
BEGIN:VTIMEZONE
TZID:Europe/Berlin
BEGIN:DAYLIGHT
TZOFFSETFROM:+0100
TZOFFSETTO:+0200
DTSTART:20240331T010000
TZNAME:CEST
END:DAYLIGHT
END:VTIMEZONE
END:VCALENDAR
