BEGIN:VCALENDAR
VERSION:2.0
PRODID:-//Events | FID-Recht//NONSGML Events//EN
CALSCALE:GREGORIAN
X-ORIGINAL-URL:https://events.intrecht.de/termine/
X-WR-CALDESC:Events | FID-Recht - Events
BEGIN:VEVENT
UID:20200603T1418Z-1591193923.3362-EO-587-1@172.16.200.141
STATUS:CONFIRMED
DTSTAMP:20260425T193202Z
CREATED:20230227T121001Z
LAST-MODIFIED:20230227T121001Z
DTSTART;VALUE=DATE:20230922
DTEND;VALUE=DATE:20230923
SUMMARY: Dritter ICON-S Works-in-Progress Workshop 2023
DESCRIPTION: 22.9.2023 / Bielefeld (Frist für Einreichungen: 24.4.2023) htt
 ps://sites.google.com/view/icon-s-germany/aktuelles-current-events
X-ALT-DESC;FMTTYPE=text/html: <p>22.9.2023 / Bielefeld <strong>(Frist für E
 inreichungen: 24.4.2023)</strong></p><p><a href="https://sites.google.com/v
 iew/icon-s-germany/aktuelles-current-events">https://sites.google.com/view/
 icon-s-germany/aktuelles-current-events</a></p><p>[av_button label='iCal-Ex
 port' link='./feed/eo-events' link_target='' size='small' position='center'
  label_display='' title_attr='' icon_select='yes' icon='ue85b' font='entypo
 -fontello' color='custom' custom_bg='#b5123e' custom_font='#ffffff' av_uid=
 '' id='' custom_class='' admin_preview_bg='']</p>
CATEGORIES:Recht interdisziplinär
LOCATION:Inland
GEO:0.000000;0.000000
ORGANIZER;CN="ViFa-Recht":MAILTO:vifa-recht@sbb.spk-berlin.de
URL;VALUE=URI:https://events.intrecht.de/termine/termin/dritter-icon-s-work
 s-in-progress-workshop-2023/
END:VEVENT
BEGIN:VTIMEZONE
TZID:Europe/Berlin
BEGIN:DAYLIGHT
TZOFFSETFROM:+0100
TZOFFSETTO:+0200
DTSTART:20230326T010000
TZNAME:CEST
END:DAYLIGHT
END:VTIMEZONE
END:VCALENDAR
