BEGIN:VCALENDAR
VERSION:2.0
PRODID:-//Events | FID-Recht//NONSGML Events//EN
CALSCALE:GREGORIAN
X-ORIGINAL-URL:https://events.intrecht.de/termine/
X-WR-CALDESC:Events | FID-Recht - Events
BEGIN:VEVENT
UID:20221111T1037Z-1668163049.8141-EO-7476-1@172.16.200.151
STATUS:CONFIRMED
DTSTAMP:20260423T071804Z
CREATED:20221109T103556Z
LAST-MODIFIED:20221109T103556Z
DTSTART;VALUE=DATE:20230615
DTEND;VALUE=DATE:20230616
SUMMARY: Doktorandenworkshop zum Thema „Recht als Praxis in der Vormoderne“
DESCRIPTION: 15.6.2023 / Regensburg (Frist für Einreichungen: 15.12.2022) h
 ttps://www.hsozkult.de/event/id/event-131179?title=recht-als-praxis-in-der-
 vormoderne&recno=27&page=2&q=&sort=&fq=&total=649  
X-ALT-DESC;FMTTYPE=text/html: <p>15.6.2023 / Regensburg <strong>(Frist für 
 Einreichungen: 15.12.2022)</strong></p><p><a href="https://www.hsozkult.de/
 event/id/event-131179?title=recht-als-praxis-in-der-vormoderne&recno=27&pag
 e=2&q=&sort=&fq=&total=649">https://www.hsozkult.de/event/id/event-131179?t
 itle=recht-als-praxis-in-der-vormoderne&recno=27&page=2&q=&sort=&fq=&total=
 649</a></p><p> </p><p>[av_button label='iCal-Export' link='./feed/eo-events
 ' link_target='' size='small' position='center' label_display='' title_attr
 ='' icon_select='yes' icon='ue85b' font='entypo-fontello' color='custom' cu
 stom_bg='#b5123e' custom_font='#ffffff' av_uid='' id='' custom_class='' adm
 in_preview_bg='']</p>
CATEGORIES:Recht interdisziplinär
LOCATION:Inland
GEO:0.000000;0.000000
ORGANIZER;CN="ViFa-Recht":MAILTO:vifa-recht@sbb.spk-berlin.de
URL;VALUE=URI:https://events.intrecht.de/termine/termin/doktorandenworkshop
 -zum-thema-recht-als-praxis-in-der-vormoderne/
END:VEVENT
BEGIN:VTIMEZONE
TZID:Europe/Berlin
BEGIN:DAYLIGHT
TZOFFSETFROM:+0100
TZOFFSETTO:+0200
DTSTART:20230326T010000
TZNAME:CEST
END:DAYLIGHT
END:VTIMEZONE
END:VCALENDAR
