BEGIN:VCALENDAR
VERSION:2.0
PRODID:-//Events | FID-Recht//NONSGML Events//EN
CALSCALE:GREGORIAN
X-ORIGINAL-URL:https://events.intrecht.de/termine/
X-WR-CALDESC:Events | FID-Recht - Events
BEGIN:VEVENT
UID:20200603T1418Z-1591193923.3362-EO-587-1@172.16.200.141
STATUS:CONFIRMED
DTSTAMP:20260425T181008Z
CREATED:20230221T121919Z
LAST-MODIFIED:20230221T121919Z
DTSTART;VALUE=DATE:20230224
DTEND;VALUE=DATE:20230225
SUMMARY: Doing Feminist Legal Work (Network Launch)
DESCRIPTION: 24.2.2023 / Dublin https://www.eventbrite.ie/e/doing-feminist-
 legal-work-network-event-tickets-524357486357
X-ALT-DESC;FMTTYPE=text/html: <p>24.2.2023 / Dublin</p><p><a href="https://
 www.eventbrite.ie/e/doing-feminist-legal-work-network-event-tickets-5243574
 86357">https://www.eventbrite.ie/e/doing-feminist-legal-work-network-event-
 tickets-524357486357</a></p><p>[av_button label='iCal-Export' link='./feed/
 eo-events' link_target='' size='small' position='center' label_display='' t
 itle_attr='' icon_select='yes' icon='ue85b' font='entypo-fontello' color='c
 ustom' custom_bg='#b5123e' custom_font='#ffffff' av_uid='' id='' custom_cla
 ss='' admin_preview_bg='']</p>
CATEGORIES:Recht interdisziplinär
LOCATION:Ausland
GEO:0.000000;0.000000
ORGANIZER;CN="ViFa-Recht":MAILTO:vifa-recht@sbb.spk-berlin.de
URL;VALUE=URI:https://events.intrecht.de/termine/termin/doing-feminist-lega
 l-work-network-launch/
END:VEVENT
BEGIN:VTIMEZONE
TZID:Europe/Berlin
BEGIN:STANDARD
TZOFFSETFROM:+0200
TZOFFSETTO:+0100
DTSTART:20221030T010000
TZNAME:CET
END:STANDARD
END:VTIMEZONE
END:VCALENDAR
