BEGIN:VCALENDAR
VERSION:2.0
PRODID:-//Events | FID-Recht//NONSGML Events//EN
CALSCALE:GREGORIAN
X-ORIGINAL-URL:https://events.intrecht.de/termine/
X-WR-CALDESC:Events | FID-Recht - Events
BEGIN:VEVENT
UID:20200603T1418Z-1591193923.3362-EO-587-1@172.16.200.141
STATUS:CONFIRMED
DTSTAMP:20260425T201241Z
CREATED:20231106T160040Z
LAST-MODIFIED:20231106T160040Z
DTSTART;VALUE=DATE:20231120
DTEND;VALUE=DATE:20231121
SUMMARY: Does Turkey really endeavor to keep up with the GDPR? The Example 
 of Joint Controllership (Virtual lecture / Seminar series “Current Research
  on Turkish Law”)
DESCRIPTION: 20.11.2023 / Online https://events.mpipriv.de/current_research
 _on_turkish_law_20_11_2023
X-ALT-DESC;FMTTYPE=text/html: <p>20.11.2023 / Online</p><p><a href="https:/
 /events.mpipriv.de/current_research_on_turkish_law_20_11_2023">https://even
 ts.mpipriv.de/current_research_on_turkish_law_20_11_2023</a></p><p>[av_butt
 on label='iCal-Export' link='./feed/eo-events' link_target='' size='small' 
 position='center' label_display='' title_attr='' icon_select='yes' icon='ue
 85b' font='entypo-fontello' color='custom' custom_bg='#b5123e' custom_font=
 '#ffffff' av_uid='' id='' custom_class='' admin_preview_bg='']</p>
CATEGORIES:Zivilrecht
LOCATION:Online
GEO:0.000000;0.000000
ORGANIZER;CN="ViFa-Recht":MAILTO:vifa-recht@sbb.spk-berlin.de
URL;VALUE=URI:https://events.intrecht.de/termine/termin/does-turkey-really-
 endeavor-to-keep-up-with-the-gdpr-the-example-of-joint-controllership-virtu
 al-lecture-seminar-series-current-research-on-turkish-law/
END:VEVENT
BEGIN:VTIMEZONE
TZID:Europe/Berlin
BEGIN:STANDARD
TZOFFSETFROM:+0200
TZOFFSETTO:+0100
DTSTART:20231029T010000
TZNAME:CET
END:STANDARD
END:VTIMEZONE
END:VCALENDAR
