BEGIN:VCALENDAR
VERSION:2.0
PRODID:-//Events | FID-Recht//NONSGML Events//EN
CALSCALE:GREGORIAN
X-ORIGINAL-URL:https://events.intrecht.de/termine/
X-WR-CALDESC:Events | FID-Recht - Events
BEGIN:VEVENT
UID:20200602T0945Z-1591091115.9737-EO-599-1@172.16.200.141
STATUS:CONFIRMED
DTSTAMP:20260423T020936Z
CREATED:20260318T125820Z
LAST-MODIFIED:20260318T125820Z
DTSTART;VALUE=DATE:20260428
DTEND;VALUE=DATE:20260429
SUMMARY: Does the International Court of Justice have a Criminal Jurisdicti
 on? (Nuremberg Academy Lecture 2026)
DESCRIPTION: 28.4.2026 / Nürnberg https://www.nurembergacademy.org/about-us
 /news-dates/detail/1398-nuremberg-academy-lecture-2026
X-ALT-DESC;FMTTYPE=text/html: <p>28.4.2026 / Nürnberg</p><p><a href="https:
 //www.nurembergacademy.org/about-us/news-dates/detail/1398-nuremberg-academ
 y-lecture-2026">https://www.nurembergacademy.org/about-us/news-dates/detail
 /1398-nuremberg-academy-lecture-2026</a></p><p>[av_button label='iCal-Expor
 t' link='./feed/eo-events' link_target='' size='small' position='center' la
 bel_display='' title_attr='' icon_select='yes' icon='ue85b' font='entypo-fo
 ntello' color='custom' custom_bg='#b5123e' custom_font='#ffffff' av_uid='' 
 id='' custom_class='' admin_preview_bg='']</p>
CATEGORIES:Europäisches / Internationales Recht
LOCATION:Inland
GEO:0.000000;0.000000
ORGANIZER;CN="ViFa-Recht":MAILTO:vifa-recht@sbb.spk-berlin.de
URL;VALUE=URI:https://events.intrecht.de/termine/termin/does-the-internatio
 nal-court-of-justice-have-a-criminal-jurisdiction-nuremberg-academy-lecture
 -2026/
END:VEVENT
BEGIN:VTIMEZONE
TZID:Europe/Berlin
BEGIN:DAYLIGHT
TZOFFSETFROM:+0100
TZOFFSETTO:+0200
DTSTART:20260329T010000
TZNAME:CEST
END:DAYLIGHT
END:VTIMEZONE
END:VCALENDAR
