BEGIN:VCALENDAR
VERSION:2.0
PRODID:-//Events | FID-Recht//NONSGML Events//EN
CALSCALE:GREGORIAN
X-ORIGINAL-URL:https://events.intrecht.de/termine/
X-WR-CALDESC:Events | FID-Recht - Events
BEGIN:VEVENT
UID:20200603T1418Z-1591193923.3362-EO-587-1@172.16.200.141
STATUS:CONFIRMED
DTSTAMP:20260422T090826Z
CREATED:20240209T095513Z
LAST-MODIFIED:20240209T095513Z
DTSTART;VALUE=DATE:20240222
DTEND;VALUE=DATE:20240223
SUMMARY: Does Studying Islam Change It? How Universities Structure Religion
  (Hybrid Lecture / Afternoon Talk on Islamic Law)
DESCRIPTION: 22.2.2024 / Online und Hamburg https://events.mpipriv.de/after
 noon_talk_nathan_j_brown
X-ALT-DESC;FMTTYPE=text/html: <p>22.2.2024 / Online und Hamburg</p><p><a hr
 ef="https://events.mpipriv.de/afternoon_talk_nathan_j_brown">https://events
 .mpipriv.de/afternoon_talk_nathan_j_brown</a></p><p>[av_button label='iCal-
 Export' link='./feed/eo-events' link_target='' size='small' position='cente
 r' label_display='' title_attr='' icon_select='yes' icon='ue85b' font='enty
 po-fontello' color='custom' custom_bg='#b5123e' custom_font='#ffffff' av_ui
 d='' id='' custom_class='' admin_preview_bg='']</p>
CATEGORIES:Recht interdisziplinär
LOCATION:Hybrid
GEO:0.000000;0.000000
ORGANIZER;CN="ViFa-Recht":MAILTO:vifa-recht@sbb.spk-berlin.de
URL;VALUE=URI:https://events.intrecht.de/termine/termin/does-studying-islam
 -change-it-how-universities-structure-religion-hybrid-lecture-afternoon-tal
 k-on-islamic-law/
END:VEVENT
BEGIN:VTIMEZONE
TZID:Europe/Berlin
BEGIN:STANDARD
TZOFFSETFROM:+0200
TZOFFSETTO:+0100
DTSTART:20231029T010000
TZNAME:CET
END:STANDARD
END:VTIMEZONE
END:VCALENDAR
