BEGIN:VCALENDAR
VERSION:2.0
PRODID:-//Events | FID-Recht//NONSGML Events//EN
CALSCALE:GREGORIAN
X-ORIGINAL-URL:https://events.intrecht.de/termine/
X-WR-CALDESC:Events | FID-Recht - Events
BEGIN:VEVENT
UID:20200603T1418Z-1591193923.3362-EO-587-1@172.16.200.141
STATUS:CONFIRMED
DTSTAMP:20260422T104624Z
CREATED:20240209T095944Z
LAST-MODIFIED:20240209T095944Z
DTSTART;VALUE=DATE:20240327
DTEND;VALUE=DATE:20240328
SUMMARY: Does Intellectual Property Law Work for Africa?
DESCRIPTION: 27.3.2024 / Online https://law.mpg.de/event/does-intellectual-
 property-law-work-for-africa/
X-ALT-DESC;FMTTYPE=text/html: <p>27.3.2024 / Online</p><p><a href="https://
 law.mpg.de/event/does-intellectual-property-law-work-for-africa/">https://l
 aw.mpg.de/event/does-intellectual-property-law-work-for-africa/</a></p><p>[
 av_button label='iCal-Export' link='./feed/eo-events' link_target='' size='
 small' position='center' label_display='' title_attr='' icon_select='yes' i
 con='ue85b' font='entypo-fontello' color='custom' custom_bg='#b5123e' custo
 m_font='#ffffff' av_uid='' id='' custom_class='' admin_preview_bg='']</p>
CATEGORIES:Zivilrecht
LOCATION:Online
GEO:0.000000;0.000000
ORGANIZER;CN="ViFa-Recht":MAILTO:vifa-recht@sbb.spk-berlin.de
URL;VALUE=URI:https://events.intrecht.de/termine/termin/does-intellectual-p
 roperty-law-work-for-africa/
END:VEVENT
BEGIN:VTIMEZONE
TZID:Europe/Berlin
BEGIN:STANDARD
TZOFFSETFROM:+0100
TZOFFSETTO:+0100
DTSTART:20231029T010000
TZNAME:CET
END:STANDARD
END:VTIMEZONE
END:VCALENDAR
