BEGIN:VCALENDAR
VERSION:2.0
PRODID:-//Events | FID-Recht//NONSGML Events//EN
CALSCALE:GREGORIAN
X-ORIGINAL-URL:https://events.intrecht.de/termine/
X-WR-CALDESC:Events | FID-Recht - Events
BEGIN:VEVENT
UID:20221208T2053Z-1670532823.8515-EO-7588-1@172.16.200.151
STATUS:CONFIRMED
DTSTAMP:20260421T115355Z
CREATED:20221124T142948Z
LAST-MODIFIED:20221124T143053Z
DTSTART;VALUE=DATE:20230117
DTEND;VALUE=DATE:20230118
SUMMARY: Does (German) law present a barrier to research into contemporary 
 history? (Vortrag)
DESCRIPTION: 17.1.2023 / Frankfurt am Main https://www.lhlt.mpg.de/2684750/
 event-21-11-03-max-planck-lecture.html  
X-ALT-DESC;FMTTYPE=text/html: <p>17.1.2023 / Frankfurt am Main</p><p><a hre
 f="https://www.lhlt.mpg.de/2684750/event-21-11-03-max-planck-lecture.html">
 https://www.lhlt.mpg.de/2684750/event-21-11-03-max-planck-lecture.html</a><
 /p><p> </p><p>[av_button label='iCal-Export' link='./feed/eo-events' link_t
 arget='' size='small' position='center' label_display='' title_attr='' icon
 _select='yes' icon='ue85b' font='entypo-fontello' color='custom' custom_bg=
 '#b5123e' custom_font='#ffffff' av_uid='' id='' custom_class='' admin_previ
 ew_bg='']</p>
CATEGORIES:Recht interdisziplinär
LOCATION:Inland
GEO:0.000000;0.000000
ORGANIZER;CN="ViFa-Recht":MAILTO:vifa-recht@sbb.spk-berlin.de
URL;VALUE=URI:https://events.intrecht.de/termine/termin/does-german-law-pre
 sent-a-barrier-to-research-into-contemporary-history-vortrag/
END:VEVENT
BEGIN:VTIMEZONE
TZID:Europe/Berlin
BEGIN:STANDARD
TZOFFSETFROM:+0200
TZOFFSETTO:+0100
DTSTART:20221030T010000
TZNAME:CET
END:STANDARD
END:VTIMEZONE
END:VCALENDAR
