BEGIN:VCALENDAR
VERSION:2.0
PRODID:-//Events | FID-Recht//NONSGML Events//EN
CALSCALE:GREGORIAN
X-ORIGINAL-URL:https://events.intrecht.de/termine/
X-WR-CALDESC:Events | FID-Recht - Events
BEGIN:VEVENT
UID:20200602T0945Z-1591091115.9737-EO-599-1@172.16.200.141
STATUS:CONFIRMED
DTSTAMP:20260423T052437Z
CREATED:20251120T135722Z
LAST-MODIFIED:20251120T135722Z
DTSTART;VALUE=DATE:20260311
DTEND;VALUE=DATE:20260312
SUMMARY: Doctoral Workshop on Sustainability & Law in Context
DESCRIPTION: 11.3.2026 / Nijmegen (Einreichungsfrist: 30.11.2025) https://w
 ww.leuphana.de/en/institutes/lls/joachim-herz-doctoral-school-of-law/news/e
 vents/single-view/2025/11/30/call-for-applications-doctoral-workshop-on-sus
 tainability-and-law-in-context.html
X-ALT-DESC;FMTTYPE=text/html: <p>11.3.2026 / Nijmegen <strong>(Einreichungs
 frist: 30.11.2025)</strong></p><p><a href="https://www.leuphana.de/en/insti
 tutes/lls/joachim-herz-doctoral-school-of-law/news/events/single-view/2025/
 11/30/call-for-applications-doctoral-workshop-on-sustainability-and-law-in-
 context.html">https://www.leuphana.de/en/institutes/lls/joachim-herz-doctor
 al-school-of-law/news/events/single-view/2025/11/30/call-for-applications-d
 octoral-workshop-on-sustainability-and-law-in-context.html</a></p><p>[av_bu
 tton label='iCal-Export' link='./feed/eo-events' link_target='' size='small
 ' position='center' label_display='' title_attr='' icon_select='yes' icon='
 ue85b' font='entypo-fontello' color='custom' custom_bg='#b5123e' custom_fon
 t='#ffffff' av_uid='' id='' custom_class='' admin_preview_bg='']</p>
CATEGORIES:Recht interdisziplinär
LOCATION:Ausland
GEO:0.000000;0.000000
ORGANIZER;CN="ViFa-Recht":MAILTO:vifa-recht@sbb.spk-berlin.de
URL;VALUE=URI:https://events.intrecht.de/termine/termin/doctoral-workshop-o
 n-sustainability-law-in-context/
END:VEVENT
BEGIN:VTIMEZONE
TZID:Europe/Berlin
BEGIN:STANDARD
TZOFFSETFROM:+0200
TZOFFSETTO:+0100
DTSTART:20251026T010000
TZNAME:CET
END:STANDARD
END:VTIMEZONE
END:VCALENDAR
