BEGIN:VCALENDAR
VERSION:2.0
PRODID:-//Events | FID-Recht//NONSGML Events//EN
CALSCALE:GREGORIAN
X-ORIGINAL-URL:https://events.intrecht.de/termine/
X-WR-CALDESC:Events | FID-Recht - Events
BEGIN:VEVENT
UID:20200603T1418Z-1591193923.3362-EO-587-1@172.16.200.141
STATUS:CONFIRMED
DTSTAMP:20260423T084601Z
CREATED:20230810T091629Z
LAST-MODIFIED:20230810T091629Z
DTSTART;VALUE=DATE:20230927
DTEND;VALUE=DATE:20230928
SUMMARY: Do marketization policies create artificial governance gaps? (Onli
 ne-Event)
DESCRIPTION: 27.9.2023 / Online https://www.hertie-school.org/en/events/eve
 nt-detail/event/do-marketization-policies-create-artificial-governance-gaps
X-ALT-DESC;FMTTYPE=text/html: <p>27.9.2023 / Online</p><p><a href="https://
 www.hertie-school.org/en/events/event-detail/event/do-marketization-policie
 s-create-artificial-governance-gaps">https://www.hertie-school.org/en/event
 s/event-detail/event/do-marketization-policies-create-artificial-governance
 -gaps</a></p><p>[av_button label='iCal-Export' link='./feed/eo-events' link
 _target='' size='small' position='center' label_display='' title_attr='' ic
 on_select='yes' icon='ue85b' font='entypo-fontello' color='custom' custom_b
 g='#b5123e' custom_font='#ffffff' av_uid='' id='' custom_class='' admin_pre
 view_bg='']</p>
CATEGORIES:Recht interdisziplinär
LOCATION:Online
GEO:0.000000;0.000000
ORGANIZER;CN="ViFa-Recht":MAILTO:vifa-recht@sbb.spk-berlin.de
URL;VALUE=URI:https://events.intrecht.de/termine/termin/do-marketization-po
 licies-create-artificial-governance-gaps-online-event/
END:VEVENT
BEGIN:VTIMEZONE
TZID:Europe/Berlin
BEGIN:DAYLIGHT
TZOFFSETFROM:+0100
TZOFFSETTO:+0200
DTSTART:20230326T010000
TZNAME:CEST
END:DAYLIGHT
END:VTIMEZONE
END:VCALENDAR
