BEGIN:VCALENDAR
VERSION:2.0
PRODID:-//Events | FID-Recht//NONSGML Events//EN
CALSCALE:GREGORIAN
X-ORIGINAL-URL:https://events.intrecht.de/termine/
X-WR-CALDESC:Events | FID-Recht - Events
BEGIN:VEVENT
UID:20200603T1418Z-1591193923.3362-EO-587-1@172.16.200.141
STATUS:CONFIRMED
DTSTAMP:20260422T154251Z
CREATED:20240523T165221Z
LAST-MODIFIED:20240523T165221Z
DTSTART;VALUE=DATE:20241003
DTEND;VALUE=DATE:20241005
SUMMARY: Distributive Justice in International Law (Conference)
DESCRIPTION: 3.-4.10.2024 / Rom (Einreichungsfrist: 30.6.2024) https://driv
 e.google.com/file/d/17-hu_aFeDcldHXaqJe9AzjMjyfPbS7Z0/view
X-ALT-DESC;FMTTYPE=text/html: <p>3.-4.10.2024 / Rom <strong>(Einreichungsfr
 ist: 30.6.2024)</strong></p><p><a href="https://drive.google.com/file/d/17-
 hu_aFeDcldHXaqJe9AzjMjyfPbS7Z0/view">https://drive.google.com/file/d/17-hu_
 aFeDcldHXaqJe9AzjMjyfPbS7Z0/view</a></p><p>[av_button label='iCal-Export' l
 ink='./feed/eo-events' link_target='' size='small' position='center' label_
 display='' title_attr='' icon_select='yes' icon='ue85b' font='entypo-fontel
 lo' color='custom' custom_bg='#b5123e' custom_font='#ffffff' av_uid='' id='
 ' custom_class='' admin_preview_bg='']</p>
CATEGORIES:Europäisches / Internationales Recht
LOCATION:Ausland
GEO:0.000000;0.000000
ORGANIZER;CN="ViFa-Recht":MAILTO:vifa-recht@sbb.spk-berlin.de
URL;VALUE=URI:https://events.intrecht.de/termine/termin/distributive-justic
 e-in-international-law-conference/
END:VEVENT
BEGIN:VTIMEZONE
TZID:Europe/Berlin
BEGIN:DAYLIGHT
TZOFFSETFROM:+0100
TZOFFSETTO:+0200
DTSTART:20240331T010000
TZNAME:CEST
END:DAYLIGHT
END:VTIMEZONE
END:VCALENDAR
