BEGIN:VCALENDAR
VERSION:2.0
PRODID:-//Events | FID-Recht//NONSGML Events//EN
CALSCALE:GREGORIAN
X-ORIGINAL-URL:https://events.intrecht.de/termine/
X-WR-CALDESC:Events | FID-Recht - Events
BEGIN:VEVENT
UID:20230420T1117Z-1681989436.6449-EO-8256-1@172.16.200.151
STATUS:CONFIRMED
DTSTAMP:20260425T150921Z
CREATED:20230206T114255Z
LAST-MODIFIED:20230206T114402Z
DTSTART;VALUE=DATE:20230515
DTEND;VALUE=DATE:20230518
SUMMARY: Distinction and Identity in Late-Scholastic Thought and Beyond (Ta
 gung)
DESCRIPTION: 15.-17.5.2023 / Louvain-La-Neuve https://uclouvain.be/fr/insti
 tuts-recherche/isp/evenements/distinction-and-identity-in-late-scholastic-t
 hought-and-beyond.html  
X-ALT-DESC;FMTTYPE=text/html: <p>15.-17.5.2023 / Louvain-La-Neuve</p><p><a 
 href="https://uclouvain.be/fr/instituts-recherche/isp/evenements/distinctio
 n-and-identity-in-late-scholastic-thought-and-beyond.html">https://uclouvai
 n.be/fr/instituts-recherche/isp/evenements/distinction-and-identity-in-late
 -scholastic-thought-and-beyond.html</a></p><p> </p><p>[av_button label='iCa
 l-Export' link='./feed/eo-events' link_target='' size='small' position='cen
 ter' label_display='' title_attr='' icon_select='yes' icon='ue85b' font='en
 typo-fontello' color='custom' custom_bg='#b5123e' custom_font='#ffffff' av_
 uid='' id='' custom_class='' admin_preview_bg='']</p>
CATEGORIES:Recht interdisziplinär
LOCATION:Ausland
GEO:0.000000;0.000000
ORGANIZER;CN="ViFa-Recht":MAILTO:vifa-recht@sbb.spk-berlin.de
URL;VALUE=URI:https://events.intrecht.de/termine/termin/distinction-and-ide
 ntity-in-late-scholastic-thought-and-beyond-tagung/
END:VEVENT
BEGIN:VTIMEZONE
TZID:Europe/Berlin
BEGIN:DAYLIGHT
TZOFFSETFROM:+0100
TZOFFSETTO:+0200
DTSTART:20230326T010000
TZNAME:CEST
END:DAYLIGHT
END:VTIMEZONE
END:VCALENDAR
