BEGIN:VCALENDAR
VERSION:2.0
PRODID:-//Events | FID-Recht//NONSGML Events//EN
CALSCALE:GREGORIAN
X-ORIGINAL-URL:https://events.intrecht.de/termine/
X-WR-CALDESC:Events | FID-Recht - Events
BEGIN:VEVENT
UID:20200603T1418Z-1591193923.3362-EO-587-1@172.16.200.141
STATUS:CONFIRMED
DTSTAMP:20260422T174039Z
CREATED:20241002T152245Z
LAST-MODIFIED:20241002T152535Z
DTSTART;VALUE=DATE:20241127
DTEND;VALUE=DATE:20241129
SUMMARY: Discussing Stability and Peace in Turbulent Times: Local\, Regiona
 l and International Ramifications of the War on Gaza (Hybrid Conference)
DESCRIPTION: 27.-28.11.2024 / Online und Thessaloniki (Einreichungsfrist: 1
 8.10.2024) https://www.lawjournals.unic.ac.cy/index.php/bsemr/announcement/
 view/9
X-ALT-DESC;FMTTYPE=text/html: <p>27.-28.11.2024 / Online und Thessaloniki <
 strong>(Einreichungsfrist:</strong> <strong>18.10.2024)</strong></p><p><a h
 ref="https://www.lawjournals.unic.ac.cy/index.php/bsemr/announcement/view/9
 ">https://www.lawjournals.unic.ac.cy/index.php/bsemr/announcement/view/9</a
 ></p><p>[av_button label='iCal-Export' link='./feed/eo-events' link_target=
 '' size='small' position='center' label_display='' title_attr='' icon_selec
 t='yes' icon='ue85b' font='entypo-fontello' color='custom' custom_bg='#b512
 3e' custom_font='#ffffff' av_uid='' id='' custom_class='' admin_preview_bg=
 '']</p>
CATEGORIES:Europäisches / Internationales Recht
LOCATION:Hybrid
GEO:0.000000;0.000000
ORGANIZER;CN="ViFa-Recht":MAILTO:vifa-recht@sbb.spk-berlin.de
URL;VALUE=URI:https://events.intrecht.de/termine/termin/discussing-stabilit
 y-and-peace-in-turbulent-times-local-regional-and-international-ramificatio
 ns-of-the-war-on-gaza-hybrid-conference/
END:VEVENT
BEGIN:VTIMEZONE
TZID:Europe/Berlin
BEGIN:STANDARD
TZOFFSETFROM:+0200
TZOFFSETTO:+0100
DTSTART:20241027T010000
TZNAME:CET
END:STANDARD
END:VTIMEZONE
END:VCALENDAR
