BEGIN:VCALENDAR
VERSION:2.0
PRODID:-//Events | FID-Recht//NONSGML Events//EN
CALSCALE:GREGORIAN
X-ORIGINAL-URL:https://events.intrecht.de/termine/
X-WR-CALDESC:Events | FID-Recht - Events
BEGIN:VEVENT
UID:20210917T1749Z-1631900966.2727-EO-4634-1@172.16.200.141
STATUS:CONFIRMED
DTSTAMP:20260421T102648Z
CREATED:20210914T170924Z
LAST-MODIFIED:20210914T170924Z
DTSTART;VALUE=DATE:20210923
DTEND;VALUE=DATE:20210924
SUMMARY: Discussing a Theory of African Constitutionalism (mit Berihun Gebe
 ye) (Online-Vortrag)
DESCRIPTION: 23.9.2021\, Online https://www.mpil.de/de/pub/aktuelles/verans
 taltungen.cfm?calendar.Display&cat=3&iDisplayID=7&event_ID=741&date=09/03/2
 021  
X-ALT-DESC;FMTTYPE=text/html: <p>23.9.2021\, Online<br /><a href="https://w
 ww.mpil.de/de/pub/aktuelles/veranstaltungen.cfm?calendar.Display&cat=3&iDis
 playID=7&event_ID=741&date=09/03/2021">https://www.mpil.de/de/pub/aktuelles
 /veranstaltungen.cfm?calendar.Display&cat=3&iDisplayID=7&event_ID=741&date=
 09/03/2021</a></p><p> </p><p>[av_button label='iCal-Export' link='./feed/eo
 -events' link_target='' size='small' position='center' label_display='' tit
 le_attr='' icon_select='yes' icon='ue85b' font='entypo-fontello' color='cus
 tom' custom_bg='#b5123e' custom_font='#ffffff' av_uid='' id='' custom_class
 ='' admin_preview_bg='']</p>
CATEGORIES:Öffentliches Recht
LOCATION:Online
GEO:0.000000;0.000000
ORGANIZER;CN="ViFa-Recht":MAILTO:vifa-recht@sbb.spk-berlin.de
URL;VALUE=URI:https://events.intrecht.de/termine/termin/discussing-a-theory
 -of-african-constitutionalism-mit-berihun-gebeye-online-vortrag/
END:VEVENT
BEGIN:VTIMEZONE
TZID:Europe/Berlin
BEGIN:DAYLIGHT
TZOFFSETFROM:+0100
TZOFFSETTO:+0200
DTSTART:20210328T010000
TZNAME:CEST
END:DAYLIGHT
END:VTIMEZONE
END:VCALENDAR
