BEGIN:VCALENDAR
VERSION:2.0
PRODID:-//Events | FID-Recht//NONSGML Events//EN
CALSCALE:GREGORIAN
X-ORIGINAL-URL:https://events.intrecht.de/termine/
X-WR-CALDESC:Events | FID-Recht - Events
BEGIN:VEVENT
UID:20200603T1418Z-1591193923.3362-EO-587-1@172.16.200.141
STATUS:CONFIRMED
DTSTAMP:20260425T151012Z
CREATED:20230613T134210Z
LAST-MODIFIED:20230613T134811Z
DTSTART;VALUE=DATE:20230831
DTEND;VALUE=DATE:20230901
SUMMARY: Discretion in European Migration Governance: Vice or Virtue? (Live
  Online Seminar)
DESCRIPTION: 31.8.2023 / Online https://www.law.ox.ac.uk/content/event/disc
 retion-european-migration-governance-vice-or-virtue-0
X-ALT-DESC;FMTTYPE=text/html: <p>31.8.2023 / Online</p><p><a href="https://
 www.law.ox.ac.uk/content/event/discretion-european-migration-governance-vic
 e-or-virtue-0">https://www.law.ox.ac.uk/content/event/discretion-european-m
 igration-governance-vice-or-virtue-0</a></p><p>[av_button label='iCal-Expor
 t' link='./feed/eo-events' link_target='' size='small' position='center' la
 bel_display='' title_attr='' icon_select='yes' icon='ue85b' font='entypo-fo
 ntello' color='custom' custom_bg='#b5123e' custom_font='#ffffff' av_uid='' 
 id='' custom_class='' admin_preview_bg='']</p>
CATEGORIES:Recht interdisziplinär
LOCATION:Online
GEO:0.000000;0.000000
ORGANIZER;CN="ViFa-Recht":MAILTO:vifa-recht@sbb.spk-berlin.de
URL;VALUE=URI:https://events.intrecht.de/termine/termin/discretion-in-europ
 ean-migration-governance-vice-or-virtue-live-online-seminar/
END:VEVENT
BEGIN:VTIMEZONE
TZID:Europe/Berlin
BEGIN:DAYLIGHT
TZOFFSETFROM:+0100
TZOFFSETTO:+0200
DTSTART:20230326T010000
TZNAME:CEST
END:DAYLIGHT
END:VTIMEZONE
END:VCALENDAR
