BEGIN:VCALENDAR
VERSION:2.0
PRODID:-//Events | FID-Recht//NONSGML Events//EN
CALSCALE:GREGORIAN
X-ORIGINAL-URL:https://events.intrecht.de/termine/
X-WR-CALDESC:Events | FID-Recht - Events
BEGIN:VEVENT
UID:20220905T1557Z-1662393452.5748-EO-5079-1@172.16.200.151
STATUS:CONFIRMED
DTSTAMP:20260426T052442Z
CREATED:20220901T093145Z
LAST-MODIFIED:20240110T110721Z
DTSTART;VALUE=DATE:20220913
DTEND;VALUE=DATE:20220914
SUMMARY: DIS Construction Group & DIS Energy Group Seminar – Offshore Wind 
 Construction Disputes in a changing Energy Market: Substantive & Procedural
  Intricacies (Seminar)
DESCRIPTION: 13.9.2022\, Berlin https://www.disarb.org/veranstaltungen/dis-
 construction-group-dis-energy-group-seminar  
X-ALT-DESC;FMTTYPE=text/html: <p>13.9.2022\, Berlin</p><p><a href="https://
 www.disarb.org/veranstaltungen/dis-construction-group-dis-energy-group-semi
 nar">https://www.disarb.org/veranstaltungen/dis-construction-group-dis-ener
 gy-group-seminar</a></p><p> </p><p>[av_button label='iCal-Export' link='./f
 eed/eo-events' link_target='' size='small' position='center' label_display=
 '' title_attr='' icon_select='yes' icon='ue85b' font='entypo-fontello' colo
 r='custom' custom_bg='#b5123e' custom_font='#ffffff' av_uid='' id='' custom
 _class='' admin_preview_bg='']</p>
CATEGORIES:Recht interdisziplinär
LOCATION:Inland
GEO:0.000000;0.000000
ORGANIZER;CN="ViFa-Recht":MAILTO:vifa-recht@sbb.spk-berlin.de
URL;VALUE=URI:https://events.intrecht.de/termine/termin/dis-construction-gr
 oup-dis-energy-group-seminar-offshore-wind-construction-disputes-in-a-chang
 ing-energy-market-substantive-procedural-intricacies-seminar/
END:VEVENT
BEGIN:VTIMEZONE
TZID:Europe/Berlin
BEGIN:DAYLIGHT
TZOFFSETFROM:+0100
TZOFFSETTO:+0200
DTSTART:20220327T010000
TZNAME:CEST
END:DAYLIGHT
END:VTIMEZONE
END:VCALENDAR
